BEGIN:VCALENDAR
VERSION:2.0
PRODID:-//Bright Eye Beer Co - ECPv6.15.12.2//NONSGML v1.0//EN
CALSCALE:GREGORIAN
METHOD:PUBLISH
X-WR-CALNAME:Bright Eye Beer Co
X-ORIGINAL-URL:https://brighteyebeerco.com
X-WR-CALDESC:Events for Bright Eye Beer Co
REFRESH-INTERVAL;VALUE=DURATION:PT1H
X-Robots-Tag:noindex
X-PUBLISHED-TTL:PT1H
BEGIN:VTIMEZONE
TZID:America/New_York
BEGIN:DAYLIGHT
TZOFFSETFROM:-0500
TZOFFSETTO:-0400
TZNAME:EDT
DTSTART:20250309T070000
END:DAYLIGHT
BEGIN:STANDARD
TZOFFSETFROM:-0400
TZOFFSETTO:-0500
TZNAME:EST
DTSTART:20251102T060000
END:STANDARD
BEGIN:DAYLIGHT
TZOFFSETFROM:-0500
TZOFFSETTO:-0400
TZNAME:EDT
DTSTART:20260308T070000
END:DAYLIGHT
BEGIN:STANDARD
TZOFFSETFROM:-0400
TZOFFSETTO:-0500
TZNAME:EST
DTSTART:20261101T060000
END:STANDARD
BEGIN:DAYLIGHT
TZOFFSETFROM:-0500
TZOFFSETTO:-0400
TZNAME:EDT
DTSTART:20270314T070000
END:DAYLIGHT
BEGIN:STANDARD
TZOFFSETFROM:-0400
TZOFFSETTO:-0500
TZNAME:EST
DTSTART:20271107T060000
END:STANDARD
BEGIN:DAYLIGHT
TZOFFSETFROM:-0500
TZOFFSETTO:-0400
TZNAME:EDT
DTSTART:20280312T070000
END:DAYLIGHT
BEGIN:STANDARD
TZOFFSETFROM:-0400
TZOFFSETTO:-0500
TZNAME:EST
DTSTART:20281105T060000
END:STANDARD
BEGIN:DAYLIGHT
TZOFFSETFROM:-0500
TZOFFSETTO:-0400
TZNAME:EDT
DTSTART:20290311T070000
END:DAYLIGHT
BEGIN:STANDARD
TZOFFSETFROM:-0400
TZOFFSETTO:-0500
TZNAME:EST
DTSTART:20291104T060000
END:STANDARD
BEGIN:DAYLIGHT
TZOFFSETFROM:-0500
TZOFFSETTO:-0400
TZNAME:EDT
DTSTART:20300310T070000
END:DAYLIGHT
BEGIN:STANDARD
TZOFFSETFROM:-0400
TZOFFSETTO:-0500
TZNAME:EST
DTSTART:20301103T060000
END:STANDARD
END:VTIMEZONE
BEGIN:VEVENT
DTSTART;TZID=America/New_York:20270113T184500
DTEND;TZID=America/New_York:20270113T194500
DTSTAMP:20260422T092006
CREATED:20250123T152506Z
LAST-MODIFIED:20250123T152506Z
UID:10000168-1799865900-1799869500@brighteyebeerco.com
SUMMARY:Long Beach Run Club
DESCRIPTION:Meet @ 6:45pm\, Run @ 7pm \nWeekly 5k on the boards with the Long Beach Run Club. All are welcome. Discounted beers & prizes for running milestones available for all runners.  Follow @longbeach_runclub on Instagram for updates & other activities.
URL:https://brighteyebeerco.com/event-detail/long-beach-run-club/2027-01-13/
LOCATION:Bright Eye Beer Co. Taproom\, 50 West Park Ave\, Long Beach\, NY\, 11561\, United States
END:VEVENT
BEGIN:VEVENT
DTSTART;TZID=America/New_York:20270825T184500
DTEND;TZID=America/New_York:20270825T194500
DTSTAMP:20260422T092006
CREATED:20250123T152506Z
LAST-MODIFIED:20250123T152506Z
UID:10000200-1819219500-1819223100@brighteyebeerco.com
SUMMARY:Long Beach Run Club
DESCRIPTION:Meet @ 6:45pm\, Run @ 7pm \nWeekly 5k on the boards with the Long Beach Run Club. All are welcome. Discounted beers & prizes for running milestones available for all runners.  Follow @longbeach_runclub on Instagram for updates & other activities.
URL:https://brighteyebeerco.com/event-detail/long-beach-run-club/2027-08-25/
LOCATION:Bright Eye Beer Co. Taproom\, 50 West Park Ave\, Long Beach\, NY\, 11561\, United States
END:VEVENT
BEGIN:VEVENT
DTSTART;TZID=America/New_York:20280405T184500
DTEND;TZID=America/New_York:20280405T194500
DTSTAMP:20260422T092006
CREATED:20250123T152506Z
LAST-MODIFIED:20250123T152506Z
UID:10000232-1838573100-1838576700@brighteyebeerco.com
SUMMARY:Long Beach Run Club
DESCRIPTION:Meet @ 6:45pm\, Run @ 7pm \nWeekly 5k on the boards with the Long Beach Run Club. All are welcome. Discounted beers & prizes for running milestones available for all runners.  Follow @longbeach_runclub on Instagram for updates & other activities.
URL:https://brighteyebeerco.com/event-detail/long-beach-run-club/2028-04-05/
LOCATION:Bright Eye Beer Co. Taproom\, 50 West Park Ave\, Long Beach\, NY\, 11561\, United States
END:VEVENT
BEGIN:VEVENT
DTSTART;TZID=America/New_York:20281115T184500
DTEND;TZID=America/New_York:20281115T194500
DTSTAMP:20260422T092006
CREATED:20250123T152506Z
LAST-MODIFIED:20250123T152506Z
UID:10000264-1857926700-1857930300@brighteyebeerco.com
SUMMARY:Long Beach Run Club
DESCRIPTION:Meet @ 6:45pm\, Run @ 7pm \nWeekly 5k on the boards with the Long Beach Run Club. All are welcome. Discounted beers & prizes for running milestones available for all runners.  Follow @longbeach_runclub on Instagram for updates & other activities.
URL:https://brighteyebeerco.com/event-detail/long-beach-run-club/2028-11-15/
LOCATION:Bright Eye Beer Co. Taproom\, 50 West Park Ave\, Long Beach\, NY\, 11561\, United States
END:VEVENT
BEGIN:VEVENT
DTSTART;TZID=America/New_York:20290627T184500
DTEND;TZID=America/New_York:20290627T194500
DTSTAMP:20260422T092006
CREATED:20250123T152506Z
LAST-MODIFIED:20250123T152506Z
UID:10000296-1877280300-1877283900@brighteyebeerco.com
SUMMARY:Long Beach Run Club
DESCRIPTION:Meet @ 6:45pm\, Run @ 7pm \nWeekly 5k on the boards with the Long Beach Run Club. All are welcome. Discounted beers & prizes for running milestones available for all runners.  Follow @longbeach_runclub on Instagram for updates & other activities.
URL:https://brighteyebeerco.com/event-detail/long-beach-run-club/2029-06-27/
LOCATION:Bright Eye Beer Co. Taproom\, 50 West Park Ave\, Long Beach\, NY\, 11561\, United States
END:VEVENT
BEGIN:VEVENT
DTSTART;TZID=America/New_York:20260819T184500
DTEND;TZID=America/New_York:20260819T194500
DTSTAMP:20260422T092006
CREATED:20250123T152506Z
LAST-MODIFIED:20250123T152506Z
UID:10000147-1787165100-1787168700@brighteyebeerco.com
SUMMARY:Long Beach Run Club
DESCRIPTION:Meet @ 6:45pm\, Run @ 7pm \nWeekly 5k on the boards with the Long Beach Run Club. All are welcome. Discounted beers & prizes for running milestones available for all runners.  Follow @longbeach_runclub on Instagram for updates & other activities.
URL:https://brighteyebeerco.com/event-detail/long-beach-run-club/2026-08-19/
LOCATION:Bright Eye Beer Co. Taproom\, 50 West Park Ave\, Long Beach\, NY\, 11561\, United States
END:VEVENT
BEGIN:VEVENT
DTSTART;TZID=America/New_York:20270331T184500
DTEND;TZID=America/New_York:20270331T194500
DTSTAMP:20260422T092006
CREATED:20250123T152506Z
LAST-MODIFIED:20250123T152506Z
UID:10000179-1806518700-1806522300@brighteyebeerco.com
SUMMARY:Long Beach Run Club
DESCRIPTION:Meet @ 6:45pm\, Run @ 7pm \nWeekly 5k on the boards with the Long Beach Run Club. All are welcome. Discounted beers & prizes for running milestones available for all runners.  Follow @longbeach_runclub on Instagram for updates & other activities.
URL:https://brighteyebeerco.com/event-detail/long-beach-run-club/2027-03-31/
LOCATION:Bright Eye Beer Co. Taproom\, 50 West Park Ave\, Long Beach\, NY\, 11561\, United States
END:VEVENT
BEGIN:VEVENT
DTSTART;TZID=America/New_York:20271110T184500
DTEND;TZID=America/New_York:20271110T194500
DTSTAMP:20260422T092006
CREATED:20250123T152506Z
LAST-MODIFIED:20250123T152506Z
UID:10000211-1825872300-1825875900@brighteyebeerco.com
SUMMARY:Long Beach Run Club
DESCRIPTION:Meet @ 6:45pm\, Run @ 7pm \nWeekly 5k on the boards with the Long Beach Run Club. All are welcome. Discounted beers & prizes for running milestones available for all runners.  Follow @longbeach_runclub on Instagram for updates & other activities.
URL:https://brighteyebeerco.com/event-detail/long-beach-run-club/2027-11-10/
LOCATION:Bright Eye Beer Co. Taproom\, 50 West Park Ave\, Long Beach\, NY\, 11561\, United States
END:VEVENT
BEGIN:VEVENT
DTSTART;TZID=America/New_York:20280621T184500
DTEND;TZID=America/New_York:20280621T194500
DTSTAMP:20260422T092006
CREATED:20250123T152506Z
LAST-MODIFIED:20250123T152506Z
UID:10000243-1845225900-1845229500@brighteyebeerco.com
SUMMARY:Long Beach Run Club
DESCRIPTION:Meet @ 6:45pm\, Run @ 7pm \nWeekly 5k on the boards with the Long Beach Run Club. All are welcome. Discounted beers & prizes for running milestones available for all runners.  Follow @longbeach_runclub on Instagram for updates & other activities.
URL:https://brighteyebeerco.com/event-detail/long-beach-run-club/2028-06-21/
LOCATION:Bright Eye Beer Co. Taproom\, 50 West Park Ave\, Long Beach\, NY\, 11561\, United States
END:VEVENT
BEGIN:VEVENT
DTSTART;TZID=America/New_York:20290131T184500
DTEND;TZID=America/New_York:20290131T194500
DTSTAMP:20260422T092006
CREATED:20250123T152506Z
LAST-MODIFIED:20250123T152506Z
UID:10000275-1864579500-1864583100@brighteyebeerco.com
SUMMARY:Long Beach Run Club
DESCRIPTION:Meet @ 6:45pm\, Run @ 7pm \nWeekly 5k on the boards with the Long Beach Run Club. All are welcome. Discounted beers & prizes for running milestones available for all runners.  Follow @longbeach_runclub on Instagram for updates & other activities.
URL:https://brighteyebeerco.com/event-detail/long-beach-run-club/2029-01-31/
LOCATION:Bright Eye Beer Co. Taproom\, 50 West Park Ave\, Long Beach\, NY\, 11561\, United States
END:VEVENT
BEGIN:VEVENT
DTSTART;TZID=America/New_York:20290912T184500
DTEND;TZID=America/New_York:20290912T194500
DTSTAMP:20260422T092006
CREATED:20250123T152506Z
LAST-MODIFIED:20250123T152506Z
UID:10000307-1883933100-1883936700@brighteyebeerco.com
SUMMARY:Long Beach Run Club
DESCRIPTION:Meet @ 6:45pm\, Run @ 7pm \nWeekly 5k on the boards with the Long Beach Run Club. All are welcome. Discounted beers & prizes for running milestones available for all runners.  Follow @longbeach_runclub on Instagram for updates & other activities.
URL:https://brighteyebeerco.com/event-detail/long-beach-run-club/2029-09-12/
LOCATION:Bright Eye Beer Co. Taproom\, 50 West Park Ave\, Long Beach\, NY\, 11561\, United States
END:VEVENT
BEGIN:VEVENT
DTSTART;TZID=America/New_York:20261104T184500
DTEND;TZID=America/New_York:20261104T194500
DTSTAMP:20260422T092006
CREATED:20250123T152506Z
LAST-MODIFIED:20250123T152506Z
UID:10000158-1793817900-1793821500@brighteyebeerco.com
SUMMARY:Long Beach Run Club
DESCRIPTION:Meet @ 6:45pm\, Run @ 7pm \nWeekly 5k on the boards with the Long Beach Run Club. All are welcome. Discounted beers & prizes for running milestones available for all runners.  Follow @longbeach_runclub on Instagram for updates & other activities.
URL:https://brighteyebeerco.com/event-detail/long-beach-run-club/2026-11-04/
LOCATION:Bright Eye Beer Co. Taproom\, 50 West Park Ave\, Long Beach\, NY\, 11561\, United States
END:VEVENT
BEGIN:VEVENT
DTSTART;TZID=America/New_York:20270616T184500
DTEND;TZID=America/New_York:20270616T194500
DTSTAMP:20260422T092006
CREATED:20250123T152506Z
LAST-MODIFIED:20250123T152506Z
UID:10000190-1813171500-1813175100@brighteyebeerco.com
SUMMARY:Long Beach Run Club
DESCRIPTION:Meet @ 6:45pm\, Run @ 7pm \nWeekly 5k on the boards with the Long Beach Run Club. All are welcome. Discounted beers & prizes for running milestones available for all runners.  Follow @longbeach_runclub on Instagram for updates & other activities.
URL:https://brighteyebeerco.com/event-detail/long-beach-run-club/2027-06-16/
LOCATION:Bright Eye Beer Co. Taproom\, 50 West Park Ave\, Long Beach\, NY\, 11561\, United States
END:VEVENT
BEGIN:VEVENT
DTSTART;TZID=America/New_York:20280126T184500
DTEND;TZID=America/New_York:20280126T194500
DTSTAMP:20260422T092006
CREATED:20250123T152506Z
LAST-MODIFIED:20250123T152506Z
UID:10000222-1832525100-1832528700@brighteyebeerco.com
SUMMARY:Long Beach Run Club
DESCRIPTION:Meet @ 6:45pm\, Run @ 7pm \nWeekly 5k on the boards with the Long Beach Run Club. All are welcome. Discounted beers & prizes for running milestones available for all runners.  Follow @longbeach_runclub on Instagram for updates & other activities.
URL:https://brighteyebeerco.com/event-detail/long-beach-run-club/2028-01-26/
LOCATION:Bright Eye Beer Co. Taproom\, 50 West Park Ave\, Long Beach\, NY\, 11561\, United States
END:VEVENT
BEGIN:VEVENT
DTSTART;TZID=America/New_York:20280906T184500
DTEND;TZID=America/New_York:20280906T194500
DTSTAMP:20260422T092006
CREATED:20250123T152506Z
LAST-MODIFIED:20250123T152506Z
UID:10000254-1851878700-1851882300@brighteyebeerco.com
SUMMARY:Long Beach Run Club
DESCRIPTION:Meet @ 6:45pm\, Run @ 7pm \nWeekly 5k on the boards with the Long Beach Run Club. All are welcome. Discounted beers & prizes for running milestones available for all runners.  Follow @longbeach_runclub on Instagram for updates & other activities.
URL:https://brighteyebeerco.com/event-detail/long-beach-run-club/2028-09-06/
LOCATION:Bright Eye Beer Co. Taproom\, 50 West Park Ave\, Long Beach\, NY\, 11561\, United States
END:VEVENT
BEGIN:VEVENT
DTSTART;TZID=America/New_York:20290418T184500
DTEND;TZID=America/New_York:20290418T194500
DTSTAMP:20260422T092006
CREATED:20250123T152506Z
LAST-MODIFIED:20250123T152506Z
UID:10000286-1871232300-1871235900@brighteyebeerco.com
SUMMARY:Long Beach Run Club
DESCRIPTION:Meet @ 6:45pm\, Run @ 7pm \nWeekly 5k on the boards with the Long Beach Run Club. All are welcome. Discounted beers & prizes for running milestones available for all runners.  Follow @longbeach_runclub on Instagram for updates & other activities.
URL:https://brighteyebeerco.com/event-detail/long-beach-run-club/2029-04-18/
LOCATION:Bright Eye Beer Co. Taproom\, 50 West Park Ave\, Long Beach\, NY\, 11561\, United States
END:VEVENT
BEGIN:VEVENT
DTSTART;TZID=America/New_York:20291128T184500
DTEND;TZID=America/New_York:20291128T194500
DTSTAMP:20260422T092006
CREATED:20250123T152506Z
LAST-MODIFIED:20250123T152506Z
UID:10000318-1890585900-1890589500@brighteyebeerco.com
SUMMARY:Long Beach Run Club
DESCRIPTION:Meet @ 6:45pm\, Run @ 7pm \nWeekly 5k on the boards with the Long Beach Run Club. All are welcome. Discounted beers & prizes for running milestones available for all runners.  Follow @longbeach_runclub on Instagram for updates & other activities.
URL:https://brighteyebeerco.com/event-detail/long-beach-run-club/2029-11-28/
LOCATION:Bright Eye Beer Co. Taproom\, 50 West Park Ave\, Long Beach\, NY\, 11561\, United States
END:VEVENT
BEGIN:VEVENT
DTSTART;TZID=America/New_York:20260610T184500
DTEND;TZID=America/New_York:20260610T194500
DTSTAMP:20260422T092006
CREATED:20250123T152506Z
LAST-MODIFIED:20250123T152506Z
UID:10000137-1781117100-1781120700@brighteyebeerco.com
SUMMARY:Long Beach Run Club
DESCRIPTION:Meet @ 6:45pm\, Run @ 7pm \nWeekly 5k on the boards with the Long Beach Run Club. All are welcome. Discounted beers & prizes for running milestones available for all runners.  Follow @longbeach_runclub on Instagram for updates & other activities.
URL:https://brighteyebeerco.com/event-detail/long-beach-run-club/2026-06-10/
LOCATION:Bright Eye Beer Co. Taproom\, 50 West Park Ave\, Long Beach\, NY\, 11561\, United States
END:VEVENT
BEGIN:VEVENT
DTSTART;TZID=America/New_York:20270120T184500
DTEND;TZID=America/New_York:20270120T194500
DTSTAMP:20260422T092006
CREATED:20250123T152506Z
LAST-MODIFIED:20250123T152506Z
UID:10000169-1800470700-1800474300@brighteyebeerco.com
SUMMARY:Long Beach Run Club
DESCRIPTION:Meet @ 6:45pm\, Run @ 7pm \nWeekly 5k on the boards with the Long Beach Run Club. All are welcome. Discounted beers & prizes for running milestones available for all runners.  Follow @longbeach_runclub on Instagram for updates & other activities.
URL:https://brighteyebeerco.com/event-detail/long-beach-run-club/2027-01-20/
LOCATION:Bright Eye Beer Co. Taproom\, 50 West Park Ave\, Long Beach\, NY\, 11561\, United States
END:VEVENT
BEGIN:VEVENT
DTSTART;TZID=America/New_York:20270901T184500
DTEND;TZID=America/New_York:20270901T194500
DTSTAMP:20260422T092006
CREATED:20250123T152506Z
LAST-MODIFIED:20250123T152506Z
UID:10000201-1819824300-1819827900@brighteyebeerco.com
SUMMARY:Long Beach Run Club
DESCRIPTION:Meet @ 6:45pm\, Run @ 7pm \nWeekly 5k on the boards with the Long Beach Run Club. All are welcome. Discounted beers & prizes for running milestones available for all runners.  Follow @longbeach_runclub on Instagram for updates & other activities.
URL:https://brighteyebeerco.com/event-detail/long-beach-run-club/2027-09-01/
LOCATION:Bright Eye Beer Co. Taproom\, 50 West Park Ave\, Long Beach\, NY\, 11561\, United States
END:VEVENT
BEGIN:VEVENT
DTSTART;TZID=America/New_York:20280412T184500
DTEND;TZID=America/New_York:20280412T194500
DTSTAMP:20260422T092006
CREATED:20250123T152506Z
LAST-MODIFIED:20250123T152506Z
UID:10000233-1839177900-1839181500@brighteyebeerco.com
SUMMARY:Long Beach Run Club
DESCRIPTION:Meet @ 6:45pm\, Run @ 7pm \nWeekly 5k on the boards with the Long Beach Run Club. All are welcome. Discounted beers & prizes for running milestones available for all runners.  Follow @longbeach_runclub on Instagram for updates & other activities.
URL:https://brighteyebeerco.com/event-detail/long-beach-run-club/2028-04-12/
LOCATION:Bright Eye Beer Co. Taproom\, 50 West Park Ave\, Long Beach\, NY\, 11561\, United States
END:VEVENT
BEGIN:VEVENT
DTSTART;TZID=America/New_York:20281122T184500
DTEND;TZID=America/New_York:20281122T194500
DTSTAMP:20260422T092006
CREATED:20250123T152506Z
LAST-MODIFIED:20250123T152506Z
UID:10000265-1858531500-1858535100@brighteyebeerco.com
SUMMARY:Long Beach Run Club
DESCRIPTION:Meet @ 6:45pm\, Run @ 7pm \nWeekly 5k on the boards with the Long Beach Run Club. All are welcome. Discounted beers & prizes for running milestones available for all runners.  Follow @longbeach_runclub on Instagram for updates & other activities.
URL:https://brighteyebeerco.com/event-detail/long-beach-run-club/2028-11-22/
LOCATION:Bright Eye Beer Co. Taproom\, 50 West Park Ave\, Long Beach\, NY\, 11561\, United States
END:VEVENT
BEGIN:VEVENT
DTSTART;TZID=America/New_York:20290704T184500
DTEND;TZID=America/New_York:20290704T194500
DTSTAMP:20260422T092006
CREATED:20250123T152506Z
LAST-MODIFIED:20250123T152506Z
UID:10000297-1877885100-1877888700@brighteyebeerco.com
SUMMARY:Long Beach Run Club
DESCRIPTION:Meet @ 6:45pm\, Run @ 7pm \nWeekly 5k on the boards with the Long Beach Run Club. All are welcome. Discounted beers & prizes for running milestones available for all runners.  Follow @longbeach_runclub on Instagram for updates & other activities.
URL:https://brighteyebeerco.com/event-detail/long-beach-run-club/2029-07-04/
LOCATION:Bright Eye Beer Co. Taproom\, 50 West Park Ave\, Long Beach\, NY\, 11561\, United States
END:VEVENT
BEGIN:VEVENT
DTSTART;TZID=America/New_York:20260826T184500
DTEND;TZID=America/New_York:20260826T194500
DTSTAMP:20260422T092006
CREATED:20250123T152506Z
LAST-MODIFIED:20250123T152506Z
UID:10000148-1787769900-1787773500@brighteyebeerco.com
SUMMARY:Long Beach Run Club
DESCRIPTION:Meet @ 6:45pm\, Run @ 7pm \nWeekly 5k on the boards with the Long Beach Run Club. All are welcome. Discounted beers & prizes for running milestones available for all runners.  Follow @longbeach_runclub on Instagram for updates & other activities.
URL:https://brighteyebeerco.com/event-detail/long-beach-run-club/2026-08-26/
LOCATION:Bright Eye Beer Co. Taproom\, 50 West Park Ave\, Long Beach\, NY\, 11561\, United States
END:VEVENT
BEGIN:VEVENT
DTSTART;TZID=America/New_York:20270407T184500
DTEND;TZID=America/New_York:20270407T194500
DTSTAMP:20260422T092006
CREATED:20250123T152506Z
LAST-MODIFIED:20250123T152506Z
UID:10000180-1807123500-1807127100@brighteyebeerco.com
SUMMARY:Long Beach Run Club
DESCRIPTION:Meet @ 6:45pm\, Run @ 7pm \nWeekly 5k on the boards with the Long Beach Run Club. All are welcome. Discounted beers & prizes for running milestones available for all runners.  Follow @longbeach_runclub on Instagram for updates & other activities.
URL:https://brighteyebeerco.com/event-detail/long-beach-run-club/2027-04-07/
LOCATION:Bright Eye Beer Co. Taproom\, 50 West Park Ave\, Long Beach\, NY\, 11561\, United States
END:VEVENT
BEGIN:VEVENT
DTSTART;TZID=America/New_York:20271117T184500
DTEND;TZID=America/New_York:20271117T194500
DTSTAMP:20260422T092006
CREATED:20250123T152506Z
LAST-MODIFIED:20250123T152506Z
UID:10000212-1826477100-1826480700@brighteyebeerco.com
SUMMARY:Long Beach Run Club
DESCRIPTION:Meet @ 6:45pm\, Run @ 7pm \nWeekly 5k on the boards with the Long Beach Run Club. All are welcome. Discounted beers & prizes for running milestones available for all runners.  Follow @longbeach_runclub on Instagram for updates & other activities.
URL:https://brighteyebeerco.com/event-detail/long-beach-run-club/2027-11-17/
LOCATION:Bright Eye Beer Co. Taproom\, 50 West Park Ave\, Long Beach\, NY\, 11561\, United States
END:VEVENT
BEGIN:VEVENT
DTSTART;TZID=America/New_York:20280628T184500
DTEND;TZID=America/New_York:20280628T194500
DTSTAMP:20260422T092006
CREATED:20250123T152506Z
LAST-MODIFIED:20250123T152506Z
UID:10000244-1845830700-1845834300@brighteyebeerco.com
SUMMARY:Long Beach Run Club
DESCRIPTION:Meet @ 6:45pm\, Run @ 7pm \nWeekly 5k on the boards with the Long Beach Run Club. All are welcome. Discounted beers & prizes for running milestones available for all runners.  Follow @longbeach_runclub on Instagram for updates & other activities.
URL:https://brighteyebeerco.com/event-detail/long-beach-run-club/2028-06-28/
LOCATION:Bright Eye Beer Co. Taproom\, 50 West Park Ave\, Long Beach\, NY\, 11561\, United States
END:VEVENT
BEGIN:VEVENT
DTSTART;TZID=America/New_York:20290207T184500
DTEND;TZID=America/New_York:20290207T194500
DTSTAMP:20260422T092006
CREATED:20250123T152506Z
LAST-MODIFIED:20250123T152506Z
UID:10000276-1865184300-1865187900@brighteyebeerco.com
SUMMARY:Long Beach Run Club
DESCRIPTION:Meet @ 6:45pm\, Run @ 7pm \nWeekly 5k on the boards with the Long Beach Run Club. All are welcome. Discounted beers & prizes for running milestones available for all runners.  Follow @longbeach_runclub on Instagram for updates & other activities.
URL:https://brighteyebeerco.com/event-detail/long-beach-run-club/2029-02-07/
LOCATION:Bright Eye Beer Co. Taproom\, 50 West Park Ave\, Long Beach\, NY\, 11561\, United States
END:VEVENT
BEGIN:VEVENT
DTSTART;TZID=America/New_York:20290919T184500
DTEND;TZID=America/New_York:20290919T194500
DTSTAMP:20260422T092006
CREATED:20250123T152506Z
LAST-MODIFIED:20250123T152506Z
UID:10000308-1884537900-1884541500@brighteyebeerco.com
SUMMARY:Long Beach Run Club
DESCRIPTION:Meet @ 6:45pm\, Run @ 7pm \nWeekly 5k on the boards with the Long Beach Run Club. All are welcome. Discounted beers & prizes for running milestones available for all runners.  Follow @longbeach_runclub on Instagram for updates & other activities.
URL:https://brighteyebeerco.com/event-detail/long-beach-run-club/2029-09-19/
LOCATION:Bright Eye Beer Co. Taproom\, 50 West Park Ave\, Long Beach\, NY\, 11561\, United States
END:VEVENT
BEGIN:VEVENT
DTSTART;TZID=America/New_York:20261111T184500
DTEND;TZID=America/New_York:20261111T194500
DTSTAMP:20260422T092006
CREATED:20250123T152506Z
LAST-MODIFIED:20250123T152506Z
UID:10000159-1794422700-1794426300@brighteyebeerco.com
SUMMARY:Long Beach Run Club
DESCRIPTION:Meet @ 6:45pm\, Run @ 7pm \nWeekly 5k on the boards with the Long Beach Run Club. All are welcome. Discounted beers & prizes for running milestones available for all runners.  Follow @longbeach_runclub on Instagram for updates & other activities.
URL:https://brighteyebeerco.com/event-detail/long-beach-run-club/2026-11-11/
LOCATION:Bright Eye Beer Co. Taproom\, 50 West Park Ave\, Long Beach\, NY\, 11561\, United States
END:VEVENT
END:VCALENDAR