BEGIN:VCALENDAR
VERSION:2.0
PRODID:-//Bright Eye Beer Co - ECPv6.15.12.2//NONSGML v1.0//EN
CALSCALE:GREGORIAN
METHOD:PUBLISH
X-WR-CALNAME:Bright Eye Beer Co
X-ORIGINAL-URL:https://brighteyebeerco.com
X-WR-CALDESC:Events for Bright Eye Beer Co
REFRESH-INTERVAL;VALUE=DURATION:PT1H
X-Robots-Tag:noindex
X-PUBLISHED-TTL:PT1H
BEGIN:VTIMEZONE
TZID:America/New_York
BEGIN:DAYLIGHT
TZOFFSETFROM:-0500
TZOFFSETTO:-0400
TZNAME:EDT
DTSTART:20240310T070000
END:DAYLIGHT
BEGIN:STANDARD
TZOFFSETFROM:-0400
TZOFFSETTO:-0500
TZNAME:EST
DTSTART:20241103T060000
END:STANDARD
BEGIN:DAYLIGHT
TZOFFSETFROM:-0500
TZOFFSETTO:-0400
TZNAME:EDT
DTSTART:20250309T070000
END:DAYLIGHT
BEGIN:STANDARD
TZOFFSETFROM:-0400
TZOFFSETTO:-0500
TZNAME:EST
DTSTART:20251102T060000
END:STANDARD
BEGIN:DAYLIGHT
TZOFFSETFROM:-0500
TZOFFSETTO:-0400
TZNAME:EDT
DTSTART:20260308T070000
END:DAYLIGHT
BEGIN:STANDARD
TZOFFSETFROM:-0400
TZOFFSETTO:-0500
TZNAME:EST
DTSTART:20261101T060000
END:STANDARD
END:VTIMEZONE
BEGIN:VEVENT
DTSTART;TZID=America/New_York:20250528T180000
DTEND;TZID=America/New_York:20250528T210000
DTSTAMP:20260422T175158
CREATED:20250514T004341Z
LAST-MODIFIED:20250514T004341Z
UID:10000448-1748455200-1748466000@brighteyebeerco.com
SUMMARY:Zeebo's Burgers
DESCRIPTION:Food pop-up with Zeebo’s smash burgers.
URL:https://brighteyebeerco.com/event-detail/zeebos-burgers-4/
LOCATION:Bright Eye Beer Co. Taproom\, 50 West Park Ave\, Long Beach\, NY\, 11561\, United States
CATEGORIES:Food Pop-Up
END:VEVENT
BEGIN:VEVENT
DTSTART;TZID=America/New_York:20250710T190000
DTEND;TZID=America/New_York:20250710T220000
DTSTAMP:20260422T175158
CREATED:20250514T004012Z
LAST-MODIFIED:20250531T173112Z
UID:10000446-1752174000-1752184800@brighteyebeerco.com
SUMMARY:KATH
DESCRIPTION:
URL:https://brighteyebeerco.com/event-detail/kath/
LOCATION:Bright Eye Beer Co. Taproom\, 50 West Park Ave\, Long Beach\, NY\, 11561\, United States
CATEGORIES:Live Music
END:VEVENT
BEGIN:VEVENT
DTSTART;TZID=America/New_York:20250524T200000
DTEND;TZID=America/New_York:20250524T230000
DTSTAMP:20260422T175158
CREATED:20250514T003929Z
LAST-MODIFIED:20250514T003929Z
UID:10000445-1748116800-1748127600@brighteyebeerco.com
SUMMARY:Trick Bag
DESCRIPTION:
URL:https://brighteyebeerco.com/event-detail/trick-bag/
LOCATION:Bright Eye Beer Co. Taproom\, 50 West Park Ave\, Long Beach\, NY\, 11561\, United States
CATEGORIES:Live Music
END:VEVENT
BEGIN:VEVENT
DTSTART;TZID=America/New_York:20250523T180000
DTEND;TZID=America/New_York:20250523T230000
DTSTAMP:20260422T175158
CREATED:20250514T003127Z
LAST-MODIFIED:20250514T003248Z
UID:10000444-1748023200-1748041200@brighteyebeerco.com
SUMMARY:Jones Beach Beer Release Party
DESCRIPTION:We brewed a beer in collaboration with the fellas over at Jones Beach Brewing. Join us at the beer release event and enjoy a fresh new brew\, smash burgers by Zeebo’s\, and live music by Mr. Rooster. \nBurgers at 5:00 PM\, live music at 8:00 PM
URL:https://brighteyebeerco.com/event-detail/jones-beach-beer-release-party/
LOCATION:Bright Eye Beer Co. Taproom\, 50 West Park Ave\, Long Beach\, NY\, 11561\, United States
CATEGORIES:Food Pop-Up,Live Music,Taproom Events
END:VEVENT
BEGIN:VEVENT
DTSTART;TZID=America/New_York:20250517T120000
DTEND;TZID=America/New_York:20250517T170000
DTSTAMP:20260422T175158
CREATED:20250514T002848Z
LAST-MODIFIED:20250514T002848Z
UID:10000443-1747483200-1747501200@brighteyebeerco.com
SUMMARY:Das Bock Lager Fest
DESCRIPTION:*Off-premise event* \nFind us pouring unlimited samples at New York’s Original Lager Festival at Plattduetsche beer garden.
URL:https://brighteyebeerco.com/event-detail/das-bock-lager-fest/
LOCATION:Bright Eye Beer Co. Taproom\, 50 West Park Ave\, Long Beach\, NY\, 11561\, United States
END:VEVENT
BEGIN:VEVENT
DTSTART;TZID=America/New_York:20250516T190000
DTEND;TZID=America/New_York:20250516T220000
DTSTAMP:20260422T175158
CREATED:20250514T002700Z
LAST-MODIFIED:20250514T002700Z
UID:10000442-1747422000-1747432800@brighteyebeerco.com
SUMMARY:PorchFest Kick-Off Party
DESCRIPTION:The party starts Friday night in the Taproom! Live music with the Katie Mitchell Band & special guests. Pick up your maps and buy merch!
URL:https://brighteyebeerco.com/event-detail/porchfest-kick-off-party/
LOCATION:Bright Eye Beer Co. Taproom\, 50 West Park Ave\, Long Beach\, NY\, 11561\, United States
CATEGORIES:Live Music
END:VEVENT
BEGIN:VEVENT
DTSTART;TZID=America/New_York:20250516T170000
DTEND;TZID=America/New_York:20250516T210000
DTSTAMP:20260422T175158
CREATED:20250514T001507Z
LAST-MODIFIED:20250514T001507Z
UID:10000441-1747414800-1747429200@brighteyebeerco.com
SUMMARY:Zeebo's Burgers
DESCRIPTION:Food pop-up with Zeebo’s smash burgers.
URL:https://brighteyebeerco.com/event-detail/zeebos-burgers-3/
LOCATION:Bright Eye Beer Co. Taproom\, 50 West Park Ave\, Long Beach\, NY\, 11561\, United States
CATEGORIES:Food Pop-Up
END:VEVENT
BEGIN:VEVENT
DTSTART;TZID=America/New_York:20250514T180000
DTEND;TZID=America/New_York:20250514T210000
DTSTAMP:20260422T175158
CREATED:20250514T001443Z
LAST-MODIFIED:20250514T001443Z
UID:10000440-1747245600-1747256400@brighteyebeerco.com
SUMMARY:Zeebo's Burgers
DESCRIPTION:Food pop-up with Zeebo’s smash burgers.
URL:https://brighteyebeerco.com/event-detail/zeebos-burgers-2/
LOCATION:Bright Eye Beer Co. Taproom\, 50 West Park Ave\, Long Beach\, NY\, 11561\, United States
CATEGORIES:Food Pop-Up
END:VEVENT
BEGIN:VEVENT
DTSTART;TZID=America/New_York:20250510T170000
DTEND;TZID=America/New_York:20250510T210000
DTSTAMP:20260422T175158
CREATED:20250502T184446Z
LAST-MODIFIED:20250502T184454Z
UID:10000439-1746896400-1746910800@brighteyebeerco.com
SUMMARY:Zeebo's Burgers
DESCRIPTION:Food pop-up with Zeebo’s smash burgers.
URL:https://brighteyebeerco.com/event-detail/zeebos-burgers/
LOCATION:Bright Eye Beer Co. Taproom\, 50 West Park Ave\, Long Beach\, NY\, 11561\, United States
CATEGORIES:Food Pop-Up
END:VEVENT
BEGIN:VEVENT
DTSTART;TZID=America/New_York:20250509T200000
DTEND;TZID=America/New_York:20250509T230000
DTSTAMP:20260422T175158
CREATED:20250502T184325Z
LAST-MODIFIED:20250502T184325Z
UID:10000438-1746820800-1746831600@brighteyebeerco.com
SUMMARY:Tom Bauer
DESCRIPTION:
URL:https://brighteyebeerco.com/event-detail/tom-bauer/
LOCATION:Bright Eye Beer Co. Taproom\, 50 West Park Ave\, Long Beach\, NY\, 11561\, United States
CATEGORIES:Live Music
END:VEVENT
BEGIN:VEVENT
DTSTART;TZID=America/New_York:20250508T180000
DTEND;TZID=America/New_York:20250508T210000
DTSTAMP:20260422T175158
CREATED:20250502T184232Z
LAST-MODIFIED:20250502T184232Z
UID:10000437-1746727200-1746738000@brighteyebeerco.com
SUMMARY:In Full Bloom: Tradewinds Pop-up
DESCRIPTION:A vintage and pre-loved pop-up shop with Tradewinds. Shop women’s clothing\, jewelry\, accessories\, men’s clothing\, and homewares.
URL:https://brighteyebeerco.com/event-detail/in-full-bloom-tradewinds-pop-up/
LOCATION:Bright Eye Beer Co. Taproom\, 50 West Park Ave\, Long Beach\, NY\, 11561\, United States
CATEGORIES:Vendor Pop-Up
END:VEVENT
BEGIN:VEVENT
DTSTART;TZID=America/New_York:20250508T180000
DTEND;TZID=America/New_York:20250508T200000
DTSTAMP:20260422T175158
CREATED:20250502T183956Z
LAST-MODIFIED:20250502T183956Z
UID:10000436-1746727200-1746734400@brighteyebeerco.com
SUMMARY:Brews & Botany
DESCRIPTION:A workshop hosted by Mural Minds. Create your own teacup terrarium and hand-painted watercolor card while enjoying a complimentary pint! \n$55 ticket includes all supplies and a beverage.
URL:https://brighteyebeerco.com/event-detail/brews-botany/
LOCATION:Bright Eye Beer Co. Taproom\, 50 West Park Ave\, Long Beach\, NY\, 11561\, United States
CATEGORIES:Taproom Events
END:VEVENT
BEGIN:VEVENT
DTSTART;TZID=America/New_York:20250506T190000
DTEND;TZID=America/New_York:20250506T210000
DTSTAMP:20260422T175158
CREATED:20250502T183722Z
LAST-MODIFIED:20250502T184037Z
UID:10000435-1746558000-1746565200@brighteyebeerco.com
SUMMARY:Trivia Tuesday
DESCRIPTION:Hosted by Lorenz and Jordan. A high-energy\, general knowledge trivia night. Participate in games throughout the evening for a chance to win free beers and crowlers. First and second-place winners go home with gift cards!
URL:https://brighteyebeerco.com/event-detail/trivia-tuesday/
LOCATION:Bright Eye Beer Co. Taproom\, 50 West Park Ave\, Long Beach\, NY\, 11561\, United States
CATEGORIES:Taproom Events
END:VEVENT
BEGIN:VEVENT
DTSTART;TZID=America/New_York:20250504T110000
DTEND;TZID=America/New_York:20250504T120000
DTSTAMP:20260422T175158
CREATED:20250502T183436Z
LAST-MODIFIED:20250502T184054Z
UID:10000434-1746356400-1746360000@brighteyebeerco.com
SUMMARY:Pilates & Pints
DESCRIPTION:A pilates class in our Upstairs space. Jen with Pilates by the Ocean will be hosting an open-level class utilizing the Magic Circle. Follow it up with a complimentary pint in our taproom!
URL:https://brighteyebeerco.com/event-detail/pilates-pints-2/
LOCATION:Bright Eye Beer Co. Taproom\, 50 West Park Ave\, Long Beach\, NY\, 11561\, United States
CATEGORIES:Fitness Class
END:VEVENT
BEGIN:VEVENT
DTSTART;TZID=America/New_York:20250503T200000
DTEND;TZID=America/New_York:20250503T230000
DTSTAMP:20260422T175158
CREATED:20250502T183002Z
LAST-MODIFIED:20250502T184019Z
UID:10000433-1746302400-1746313200@brighteyebeerco.com
SUMMARY:Undercover Mother
DESCRIPTION:
URL:https://brighteyebeerco.com/event-detail/undercover-mother/
LOCATION:Bright Eye Beer Co. Taproom\, 50 West Park Ave\, Long Beach\, NY\, 11561\, United States
CATEGORIES:Live Music
END:VEVENT
BEGIN:VEVENT
DTSTART;TZID=America/New_York:20250502T200000
DTEND;TZID=America/New_York:20250502T230000
DTSTAMP:20260422T175158
CREATED:20250502T182847Z
LAST-MODIFIED:20250502T182847Z
UID:10000432-1746216000-1746226800@brighteyebeerco.com
SUMMARY:The Andrew Ahr Group
DESCRIPTION:
URL:https://brighteyebeerco.com/event-detail/the-andrew-ahr-group/
LOCATION:Bright Eye Beer Co. Taproom\, 50 West Park Ave\, Long Beach\, NY\, 11561\, United States
CATEGORIES:Live Music
END:VEVENT
BEGIN:VEVENT
DTSTART;TZID=America/New_York:20250405T170000
DTEND;TZID=America/New_York:20250405T200000
DTSTAMP:20260422T175158
CREATED:20250326T191718Z
LAST-MODIFIED:20250326T192131Z
UID:10000429-1743872400-1743883200@brighteyebeerco.com
SUMMARY:Zeebo's Food Pop-Up
DESCRIPTION:Peep Zeebo’s Instagram for updates
URL:https://brighteyebeerco.com/event-detail/zeebos-food-pop-up/2025-04-05/
LOCATION:Bright Eye Beer Co. Taproom\, 50 West Park Ave\, Long Beach\, NY\, 11561\, United States
CATEGORIES:Food Pop-Up
ATTACH;FMTTYPE=image/png:https://craftpeak-cooler-images.imgix.net/bright-eye-beer-co/logo.png?auto=compress%2Cformat&ixlib=php-3.3.1&s=702ed1eee2c75567292ae947a4c7d906
END:VEVENT
BEGIN:VEVENT
DTSTART;TZID=America/New_York:20250411T170000
DTEND;TZID=America/New_York:20250411T200000
DTSTAMP:20260422T175158
CREATED:20250326T191718Z
LAST-MODIFIED:20250326T192131Z
UID:10000430-1744390800-1744401600@brighteyebeerco.com
SUMMARY:Zeebo's Food Pop-Up
DESCRIPTION:Peep Zeebo’s Instagram for updates
URL:https://brighteyebeerco.com/event-detail/zeebos-food-pop-up/2025-04-11/
LOCATION:Bright Eye Beer Co. Taproom\, 50 West Park Ave\, Long Beach\, NY\, 11561\, United States
CATEGORIES:Food Pop-Up
ATTACH;FMTTYPE=image/png:https://craftpeak-cooler-images.imgix.net/bright-eye-beer-co/logo.png?auto=compress%2Cformat&ixlib=php-3.3.1&s=702ed1eee2c75567292ae947a4c7d906
END:VEVENT
BEGIN:VEVENT
DTSTART;TZID=America/New_York:20250425T170000
DTEND;TZID=America/New_York:20250425T200000
DTSTAMP:20260422T175158
CREATED:20250326T191718Z
LAST-MODIFIED:20250326T192131Z
UID:10000431-1745600400-1745611200@brighteyebeerco.com
SUMMARY:Zeebo's Food Pop-Up
DESCRIPTION:Peep Zeebo’s Instagram for updates
URL:https://brighteyebeerco.com/event-detail/zeebos-food-pop-up/2025-04-25/
LOCATION:Bright Eye Beer Co. Taproom\, 50 West Park Ave\, Long Beach\, NY\, 11561\, United States
CATEGORIES:Food Pop-Up
ATTACH;FMTTYPE=image/png:https://craftpeak-cooler-images.imgix.net/bright-eye-beer-co/logo.png?auto=compress%2Cformat&ixlib=php-3.3.1&s=702ed1eee2c75567292ae947a4c7d906
END:VEVENT
BEGIN:VEVENT
DTSTART;TZID=America/New_York:20250424T180000
DTEND;TZID=America/New_York:20250424T220000
DTSTAMP:20260422T175158
CREATED:20250324T192516Z
LAST-MODIFIED:20250324T192516Z
UID:10000428-1745517600-1745532000@brighteyebeerco.com
SUMMARY:Regular Slice Party!
DESCRIPTION:Our Fourth Annual Regular Slice Party celebrating our number one selling brew\, the trusty Regular Slice Blonde Ale! \nEnjoy a free Gino’s slice with a purchase at the bar while gettin’ down to the tunes of Dave Kellan. Party starts at 6:00 PM\, live music starts at 7:00 PM.
URL:https://brighteyebeerco.com/event-detail/regular-slice-party/
LOCATION:Bright Eye Beer Co. Taproom\, 50 West Park Ave\, Long Beach\, NY\, 11561\, United States
CATEGORIES:Food Pop-Up,Live Music,Taproom Events
END:VEVENT
BEGIN:VEVENT
DTSTART;TZID=America/New_York:20250419T200000
DTEND;TZID=America/New_York:20250419T230000
DTSTAMP:20260422T175158
CREATED:20250324T192201Z
LAST-MODIFIED:20250324T192201Z
UID:10000427-1745092800-1745103600@brighteyebeerco.com
SUMMARY:Free Grass Union
DESCRIPTION:Live music with Free Grass Union. Electric bluegrass with a blend of Americana.
URL:https://brighteyebeerco.com/event-detail/free-grass-union/
LOCATION:Bright Eye Beer Co. Taproom\, 50 West Park Ave\, Long Beach\, NY\, 11561\, United States
CATEGORIES:Live Music
ATTACH;FMTTYPE=image/png:https://craftpeak-cooler-images.imgix.net/bright-eye-beer-co/Screen-Shot-2024-11-29-at-10.51.55-AM.png?auto=compress%2Cformat&ixlib=php-3.3.1&s=b3b6b333d56a5537044ed5869b74f437
END:VEVENT
BEGIN:VEVENT
DTSTART;TZID=America/New_York:20250417T190000
DTEND;TZID=America/New_York:20250417T220000
DTSTAMP:20260422T175158
CREATED:20250324T191932Z
LAST-MODIFIED:20250324T191932Z
UID:10000426-1744916400-1744927200@brighteyebeerco.com
SUMMARY:Patrick McDermott Solo
DESCRIPTION:
URL:https://brighteyebeerco.com/event-detail/patrick-mcdermott-solo-2/
LOCATION:Bright Eye Beer Co. Taproom\, 50 West Park Ave\, Long Beach\, NY\, 11561\, United States
CATEGORIES:Live Music
END:VEVENT
BEGIN:VEVENT
DTSTART;TZID=America/New_York:20250413T110000
DTEND;TZID=America/New_York:20250413T120000
DTSTAMP:20260422T175158
CREATED:20250324T191552Z
LAST-MODIFIED:20250324T191552Z
UID:10000420-1744542000-1744545600@brighteyebeerco.com
SUMMARY:Pints & Poses
DESCRIPTION:beginner friendly yoga classes upstairs at bright eye with our buddy Sam \nwhile we will be (slowly) moving\, breathing & stretching throughout the class\, this practice aims to build overall self awareness. come try to ease that monkey mind & treat yourself to a beverage after class (n/a options available) \nbring your own mat & blanket/towel if your joints need a little extra support. \nSign up in advance at: https://pointlookoutyogaclub.com/workshops-offerings/
URL:https://brighteyebeerco.com/event-detail/pints-poses-3/
LOCATION:Bright Eye Beer Co. Taproom\, 50 West Park Ave\, Long Beach\, NY\, 11561\, United States
CATEGORIES:Fitness Class
ATTACH;FMTTYPE=image/png:https://craftpeak-cooler-images.imgix.net/bright-eye-beer-co/Screen-Shot-2025-01-23-at-7.50.42-PM.png?auto=compress%2Cformat&ixlib=php-3.3.1&s=e5f6c467cd27cdca0ce0d4e293693d1a
END:VEVENT
BEGIN:VEVENT
DTSTART;TZID=America/New_York:20250412T190000
DTEND;TZID=America/New_York:20250412T220000
DTSTAMP:20260422T175158
CREATED:20250324T191349Z
LAST-MODIFIED:20250324T191419Z
UID:10000419-1744484400-1744495200@brighteyebeerco.com
SUMMARY:Brooke & Jackson Unplugged
DESCRIPTION:Live music with the acoustic duo.
URL:https://brighteyebeerco.com/event-detail/brooke-jackson-unplugged/
LOCATION:Bright Eye Beer Co. Taproom\, 50 West Park Ave\, Long Beach\, NY\, 11561\, United States
CATEGORIES:Live Music
END:VEVENT
BEGIN:VEVENT
DTSTART;TZID=America/New_York:20250411T193000
DTEND;TZID=America/New_York:20250411T230000
DTSTAMP:20260422T175158
CREATED:20250324T191154Z
LAST-MODIFIED:20250402T195325Z
UID:10000418-1744399800-1744412400@brighteyebeerco.com
SUMMARY:The Project
DESCRIPTION:Live music with The Project.
URL:https://brighteyebeerco.com/event-detail/the-project/
LOCATION:Bright Eye Beer Co. Taproom\, 50 West Park Ave\, Long Beach\, NY\, 11561\, United States
CATEGORIES:Live Music
ATTACH;FMTTYPE=image/png:https://craftpeak-cooler-images.imgix.net/bright-eye-beer-co/IMG_1268.png?auto=compress%2Cformat&ixlib=php-3.3.1&s=cd8fbcbcade90db1fad423e709b92c4f
END:VEVENT
BEGIN:VEVENT
DTSTART;TZID=America/New_York:20250410T190000
DTEND;TZID=America/New_York:20250410T220000
DTSTAMP:20260422T175158
CREATED:20250324T190947Z
LAST-MODIFIED:20250324T191002Z
UID:10000417-1744311600-1744322400@brighteyebeerco.com
SUMMARY:Brendan Michaelis
DESCRIPTION:Live music with Brendan Michaelis.
URL:https://brighteyebeerco.com/event-detail/brendan-michaelis/
LOCATION:Bright Eye Beer Co. Taproom\, 50 West Park Ave\, Long Beach\, NY\, 11561\, United States
CATEGORIES:Live Music
END:VEVENT
BEGIN:VEVENT
DTSTART;TZID=America/New_York:20250403T180000
DTEND;TZID=America/New_York:20250403T220000
DTSTAMP:20260422T175158
CREATED:20250324T190552Z
LAST-MODIFIED:20250324T190552Z
UID:10000416-1743703200-1743717600@brighteyebeerco.com
SUMMARY:Artist's Reception
DESCRIPTION:Join us for the Artist’s Reception celebrating and highlighting this new round of three local artists! \nCome meet the artists\, shop local and handmade artwork\, or just come to enjoy a night of creative collaboration! \nFood by Zeebo’s at 6:00 PM. Live music by Undercover Mother at 7:00 PM. Featured artists include: Liz Degen\, Erin Intrabartola\, and Ayla O’Neill.
URL:https://brighteyebeerco.com/event-detail/artists-reception/
LOCATION:Bright Eye Beer Co. Taproom\, 50 West Park Ave\, Long Beach\, NY\, 11561\, United States
CATEGORIES:Food Pop-Up,Live Music,Taproom Events
END:VEVENT
BEGIN:VEVENT
DTSTART;TZID=America/New_York:20250401T190000
DTEND;TZID=America/New_York:20250401T213000
DTSTAMP:20260422T175158
CREATED:20250324T190054Z
LAST-MODIFIED:20250326T192909Z
UID:10000415-1743534000-1743543000@brighteyebeerco.com
SUMMARY:Trivia Night
DESCRIPTION:The dynamic duo Jordan & Lorenz are back to bust your brains. \nGeneral knowledge\, teams of 2-6. Winners take home the prize! \nUpstairs event – no pets\, please.
URL:https://brighteyebeerco.com/event-detail/trivia-night-2/
LOCATION:Bright Eye Beer Co. Taproom\, 50 West Park Ave\, Long Beach\, NY\, 11561\, United States
CATEGORIES:Taproom Events
ATTACH;FMTTYPE=image/png:https://craftpeak-cooler-images.imgix.net/bright-eye-beer-co/Screen-Shot-2025-03-26-at-3.28.23-PM.png?auto=compress%2Cformat&ixlib=php-3.3.1&s=532055373331339994a097a9178a85a4
END:VEVENT
BEGIN:VEVENT
DTSTART;TZID=America/New_York:20250327T193000
DTEND;TZID=America/New_York:20250327T223000
DTSTAMP:20260422T175158
CREATED:20250319T211427Z
LAST-MODIFIED:20250324T185313Z
UID:10000414-1743103800-1743114600@brighteyebeerco.com
SUMMARY:Laughs on Tap!!
DESCRIPTION:https://www.eventbrite.com/e/laughs-on-tap-tickets-1280337456799?aff=ebemoffollowpublishemail&ref=eemail&utm_campaign=following_published_event&utm_content=follow_notification&utm_medium=email&utm_source=eventbrite&fbclid=PAZXh0bgNhZW0CMTEAAaa9YAD_RNMxXvoyP4KFpffeC9iaLkgMzA2D_F5F9zZL1pgQnAEcLdTcxxQ_aem_fHnAabDzrolbF5hvdFNoeA
URL:https://brighteyebeerco.com/event-detail/laughs-on-tap-2/
LOCATION:Bright Eye Beer Co. Taproom\, 50 West Park Ave\, Long Beach\, NY\, 11561\, United States
CATEGORIES:Taproom Events
ATTACH;FMTTYPE=image/png:https://craftpeak-cooler-images.imgix.net/bright-eye-beer-co/Blue-Tan-Motivational-How-To-discover-Your-Purpose-Carousel-Instagram-Post-1.png?auto=compress%2Cformat&ixlib=php-3.3.1&s=5a66d23e904eb72c7ff59d4c60ad4584
END:VEVENT
BEGIN:VEVENT
DTSTART;TZID=America/New_York:20250322T140000
DTEND;TZID=America/New_York:20250322T170000
DTSTAMP:20260422T175158
CREATED:20250319T211132Z
LAST-MODIFIED:20250324T185642Z
UID:10000413-1742652000-1742662800@brighteyebeerco.com
SUMMARY:Zeebo's Beast Feast Pop-Up
DESCRIPTION:check instagram for updates \n@zeebos__
URL:https://brighteyebeerco.com/event-detail/zeebos-beast-feast-pop-up-4/
LOCATION:Bright Eye Beer Co. Taproom\, 50 West Park Ave\, Long Beach\, NY\, 11561\, United States
CATEGORIES:Food Pop-Up
ATTACH;FMTTYPE=image/png:https://craftpeak-cooler-images.imgix.net/bright-eye-beer-co/logo.png?auto=compress%2Cformat&ixlib=php-3.3.1&s=702ed1eee2c75567292ae947a4c7d906
END:VEVENT
END:VCALENDAR