BEGIN:VCALENDAR
VERSION:2.0
PRODID:-//Bright Eye Beer Co - ECPv6.15.12.2//NONSGML v1.0//EN
CALSCALE:GREGORIAN
METHOD:PUBLISH
X-WR-CALNAME:Bright Eye Beer Co
X-ORIGINAL-URL:https://brighteyebeerco.com
X-WR-CALDESC:Events for Bright Eye Beer Co
REFRESH-INTERVAL;VALUE=DURATION:PT1H
X-Robots-Tag:noindex
X-PUBLISHED-TTL:PT1H
BEGIN:VTIMEZONE
TZID:America/New_York
BEGIN:DAYLIGHT
TZOFFSETFROM:-0500
TZOFFSETTO:-0400
TZNAME:EDT
DTSTART:20250309T070000
END:DAYLIGHT
BEGIN:STANDARD
TZOFFSETFROM:-0400
TZOFFSETTO:-0500
TZNAME:EST
DTSTART:20251102T060000
END:STANDARD
BEGIN:DAYLIGHT
TZOFFSETFROM:-0500
TZOFFSETTO:-0400
TZNAME:EDT
DTSTART:20260308T070000
END:DAYLIGHT
BEGIN:STANDARD
TZOFFSETFROM:-0400
TZOFFSETTO:-0500
TZNAME:EST
DTSTART:20261101T060000
END:STANDARD
BEGIN:DAYLIGHT
TZOFFSETFROM:-0500
TZOFFSETTO:-0400
TZNAME:EDT
DTSTART:20270314T070000
END:DAYLIGHT
BEGIN:STANDARD
TZOFFSETFROM:-0400
TZOFFSETTO:-0500
TZNAME:EST
DTSTART:20271107T060000
END:STANDARD
BEGIN:DAYLIGHT
TZOFFSETFROM:-0500
TZOFFSETTO:-0400
TZNAME:EDT
DTSTART:20280312T070000
END:DAYLIGHT
BEGIN:STANDARD
TZOFFSETFROM:-0400
TZOFFSETTO:-0500
TZNAME:EST
DTSTART:20281105T060000
END:STANDARD
BEGIN:DAYLIGHT
TZOFFSETFROM:-0500
TZOFFSETTO:-0400
TZNAME:EDT
DTSTART:20290311T070000
END:DAYLIGHT
BEGIN:STANDARD
TZOFFSETFROM:-0400
TZOFFSETTO:-0500
TZNAME:EST
DTSTART:20291104T060000
END:STANDARD
BEGIN:DAYLIGHT
TZOFFSETFROM:-0500
TZOFFSETTO:-0400
TZNAME:EDT
DTSTART:20300310T070000
END:DAYLIGHT
BEGIN:STANDARD
TZOFFSETFROM:-0400
TZOFFSETTO:-0500
TZNAME:EST
DTSTART:20301103T060000
END:STANDARD
END:VTIMEZONE
BEGIN:VEVENT
DTSTART;TZID=America/New_York:20280216T184500
DTEND;TZID=America/New_York:20280216T194500
DTSTAMP:20260423T200759
CREATED:20250123T152506Z
LAST-MODIFIED:20250123T152506Z
UID:10000225-1834339500-1834343100@brighteyebeerco.com
SUMMARY:Long Beach Run Club
DESCRIPTION:Meet @ 6:45pm\, Run @ 7pm \nWeekly 5k on the boards with the Long Beach Run Club. All are welcome. Discounted beers & prizes for running milestones available for all runners.  Follow @longbeach_runclub on Instagram for updates & other activities.
URL:https://brighteyebeerco.com/event-detail/long-beach-run-club/2028-02-16/
LOCATION:Bright Eye Beer Co. Taproom\, 50 West Park Ave\, Long Beach\, NY\, 11561\, United States
END:VEVENT
BEGIN:VEVENT
DTSTART;TZID=America/New_York:20280927T184500
DTEND;TZID=America/New_York:20280927T194500
DTSTAMP:20260423T200759
CREATED:20250123T152506Z
LAST-MODIFIED:20250123T152506Z
UID:10000257-1853693100-1853696700@brighteyebeerco.com
SUMMARY:Long Beach Run Club
DESCRIPTION:Meet @ 6:45pm\, Run @ 7pm \nWeekly 5k on the boards with the Long Beach Run Club. All are welcome. Discounted beers & prizes for running milestones available for all runners.  Follow @longbeach_runclub on Instagram for updates & other activities.
URL:https://brighteyebeerco.com/event-detail/long-beach-run-club/2028-09-27/
LOCATION:Bright Eye Beer Co. Taproom\, 50 West Park Ave\, Long Beach\, NY\, 11561\, United States
END:VEVENT
BEGIN:VEVENT
DTSTART;TZID=America/New_York:20290509T184500
DTEND;TZID=America/New_York:20290509T194500
DTSTAMP:20260423T200759
CREATED:20250123T152506Z
LAST-MODIFIED:20250123T152506Z
UID:10000289-1873046700-1873050300@brighteyebeerco.com
SUMMARY:Long Beach Run Club
DESCRIPTION:Meet @ 6:45pm\, Run @ 7pm \nWeekly 5k on the boards with the Long Beach Run Club. All are welcome. Discounted beers & prizes for running milestones available for all runners.  Follow @longbeach_runclub on Instagram for updates & other activities.
URL:https://brighteyebeerco.com/event-detail/long-beach-run-club/2029-05-09/
LOCATION:Bright Eye Beer Co. Taproom\, 50 West Park Ave\, Long Beach\, NY\, 11561\, United States
END:VEVENT
BEGIN:VEVENT
DTSTART;TZID=America/New_York:20291219T184500
DTEND;TZID=America/New_York:20291219T194500
DTSTAMP:20260423T200759
CREATED:20250123T152506Z
LAST-MODIFIED:20250123T152506Z
UID:10000321-1892400300-1892403900@brighteyebeerco.com
SUMMARY:Long Beach Run Club
DESCRIPTION:Meet @ 6:45pm\, Run @ 7pm \nWeekly 5k on the boards with the Long Beach Run Club. All are welcome. Discounted beers & prizes for running milestones available for all runners.  Follow @longbeach_runclub on Instagram for updates & other activities.
URL:https://brighteyebeerco.com/event-detail/long-beach-run-club/2029-12-19/
LOCATION:Bright Eye Beer Co. Taproom\, 50 West Park Ave\, Long Beach\, NY\, 11561\, United States
END:VEVENT
BEGIN:VEVENT
DTSTART;TZID=America/New_York:20260701T184500
DTEND;TZID=America/New_York:20260701T194500
DTSTAMP:20260423T200759
CREATED:20250123T152506Z
LAST-MODIFIED:20250123T152506Z
UID:10000140-1782931500-1782935100@brighteyebeerco.com
SUMMARY:Long Beach Run Club
DESCRIPTION:Meet @ 6:45pm\, Run @ 7pm \nWeekly 5k on the boards with the Long Beach Run Club. All are welcome. Discounted beers & prizes for running milestones available for all runners.  Follow @longbeach_runclub on Instagram for updates & other activities.
URL:https://brighteyebeerco.com/event-detail/long-beach-run-club/2026-07-01/
LOCATION:Bright Eye Beer Co. Taproom\, 50 West Park Ave\, Long Beach\, NY\, 11561\, United States
END:VEVENT
BEGIN:VEVENT
DTSTART;TZID=America/New_York:20270210T184500
DTEND;TZID=America/New_York:20270210T194500
DTSTAMP:20260423T200759
CREATED:20250123T152506Z
LAST-MODIFIED:20250123T152506Z
UID:10000172-1802285100-1802288700@brighteyebeerco.com
SUMMARY:Long Beach Run Club
DESCRIPTION:Meet @ 6:45pm\, Run @ 7pm \nWeekly 5k on the boards with the Long Beach Run Club. All are welcome. Discounted beers & prizes for running milestones available for all runners.  Follow @longbeach_runclub on Instagram for updates & other activities.
URL:https://brighteyebeerco.com/event-detail/long-beach-run-club/2027-02-10/
LOCATION:Bright Eye Beer Co. Taproom\, 50 West Park Ave\, Long Beach\, NY\, 11561\, United States
END:VEVENT
BEGIN:VEVENT
DTSTART;TZID=America/New_York:20270922T184500
DTEND;TZID=America/New_York:20270922T194500
DTSTAMP:20260423T200759
CREATED:20250123T152506Z
LAST-MODIFIED:20250123T152506Z
UID:10000204-1821638700-1821642300@brighteyebeerco.com
SUMMARY:Long Beach Run Club
DESCRIPTION:Meet @ 6:45pm\, Run @ 7pm \nWeekly 5k on the boards with the Long Beach Run Club. All are welcome. Discounted beers & prizes for running milestones available for all runners.  Follow @longbeach_runclub on Instagram for updates & other activities.
URL:https://brighteyebeerco.com/event-detail/long-beach-run-club/2027-09-22/
LOCATION:Bright Eye Beer Co. Taproom\, 50 West Park Ave\, Long Beach\, NY\, 11561\, United States
END:VEVENT
BEGIN:VEVENT
DTSTART;TZID=America/New_York:20280503T184500
DTEND;TZID=America/New_York:20280503T194500
DTSTAMP:20260423T200759
CREATED:20250123T152506Z
LAST-MODIFIED:20250123T152506Z
UID:10000236-1840992300-1840995900@brighteyebeerco.com
SUMMARY:Long Beach Run Club
DESCRIPTION:Meet @ 6:45pm\, Run @ 7pm \nWeekly 5k on the boards with the Long Beach Run Club. All are welcome. Discounted beers & prizes for running milestones available for all runners.  Follow @longbeach_runclub on Instagram for updates & other activities.
URL:https://brighteyebeerco.com/event-detail/long-beach-run-club/2028-05-03/
LOCATION:Bright Eye Beer Co. Taproom\, 50 West Park Ave\, Long Beach\, NY\, 11561\, United States
END:VEVENT
BEGIN:VEVENT
DTSTART;TZID=America/New_York:20281213T184500
DTEND;TZID=America/New_York:20281213T194500
DTSTAMP:20260423T200759
CREATED:20250123T152506Z
LAST-MODIFIED:20250123T152506Z
UID:10000268-1860345900-1860349500@brighteyebeerco.com
SUMMARY:Long Beach Run Club
DESCRIPTION:Meet @ 6:45pm\, Run @ 7pm \nWeekly 5k on the boards with the Long Beach Run Club. All are welcome. Discounted beers & prizes for running milestones available for all runners.  Follow @longbeach_runclub on Instagram for updates & other activities.
URL:https://brighteyebeerco.com/event-detail/long-beach-run-club/2028-12-13/
LOCATION:Bright Eye Beer Co. Taproom\, 50 West Park Ave\, Long Beach\, NY\, 11561\, United States
END:VEVENT
BEGIN:VEVENT
DTSTART;TZID=America/New_York:20290725T184500
DTEND;TZID=America/New_York:20290725T194500
DTSTAMP:20260423T200759
CREATED:20250123T152506Z
LAST-MODIFIED:20250123T152506Z
UID:10000300-1879699500-1879703100@brighteyebeerco.com
SUMMARY:Long Beach Run Club
DESCRIPTION:Meet @ 6:45pm\, Run @ 7pm \nWeekly 5k on the boards with the Long Beach Run Club. All are welcome. Discounted beers & prizes for running milestones available for all runners.  Follow @longbeach_runclub on Instagram for updates & other activities.
URL:https://brighteyebeerco.com/event-detail/long-beach-run-club/2029-07-25/
LOCATION:Bright Eye Beer Co. Taproom\, 50 West Park Ave\, Long Beach\, NY\, 11561\, United States
END:VEVENT
BEGIN:VEVENT
DTSTART;TZID=America/New_York:20260916T184500
DTEND;TZID=America/New_York:20260916T194500
DTSTAMP:20260423T200759
CREATED:20250123T152506Z
LAST-MODIFIED:20250123T152506Z
UID:10000151-1789584300-1789587900@brighteyebeerco.com
SUMMARY:Long Beach Run Club
DESCRIPTION:Meet @ 6:45pm\, Run @ 7pm \nWeekly 5k on the boards with the Long Beach Run Club. All are welcome. Discounted beers & prizes for running milestones available for all runners.  Follow @longbeach_runclub on Instagram for updates & other activities.
URL:https://brighteyebeerco.com/event-detail/long-beach-run-club/2026-09-16/
LOCATION:Bright Eye Beer Co. Taproom\, 50 West Park Ave\, Long Beach\, NY\, 11561\, United States
END:VEVENT
BEGIN:VEVENT
DTSTART;TZID=America/New_York:20270428T184500
DTEND;TZID=America/New_York:20270428T194500
DTSTAMP:20260423T200759
CREATED:20250123T152506Z
LAST-MODIFIED:20250123T152506Z
UID:10000183-1808937900-1808941500@brighteyebeerco.com
SUMMARY:Long Beach Run Club
DESCRIPTION:Meet @ 6:45pm\, Run @ 7pm \nWeekly 5k on the boards with the Long Beach Run Club. All are welcome. Discounted beers & prizes for running milestones available for all runners.  Follow @longbeach_runclub on Instagram for updates & other activities.
URL:https://brighteyebeerco.com/event-detail/long-beach-run-club/2027-04-28/
LOCATION:Bright Eye Beer Co. Taproom\, 50 West Park Ave\, Long Beach\, NY\, 11561\, United States
END:VEVENT
BEGIN:VEVENT
DTSTART;TZID=America/New_York:20271208T184500
DTEND;TZID=America/New_York:20271208T194500
DTSTAMP:20260423T200759
CREATED:20250123T152506Z
LAST-MODIFIED:20250123T152506Z
UID:10000215-1828291500-1828295100@brighteyebeerco.com
SUMMARY:Long Beach Run Club
DESCRIPTION:Meet @ 6:45pm\, Run @ 7pm \nWeekly 5k on the boards with the Long Beach Run Club. All are welcome. Discounted beers & prizes for running milestones available for all runners.  Follow @longbeach_runclub on Instagram for updates & other activities.
URL:https://brighteyebeerco.com/event-detail/long-beach-run-club/2027-12-08/
LOCATION:Bright Eye Beer Co. Taproom\, 50 West Park Ave\, Long Beach\, NY\, 11561\, United States
END:VEVENT
BEGIN:VEVENT
DTSTART;TZID=America/New_York:20280719T184500
DTEND;TZID=America/New_York:20280719T194500
DTSTAMP:20260423T200759
CREATED:20250123T152506Z
LAST-MODIFIED:20250123T152506Z
UID:10000247-1847645100-1847648700@brighteyebeerco.com
SUMMARY:Long Beach Run Club
DESCRIPTION:Meet @ 6:45pm\, Run @ 7pm \nWeekly 5k on the boards with the Long Beach Run Club. All are welcome. Discounted beers & prizes for running milestones available for all runners.  Follow @longbeach_runclub on Instagram for updates & other activities.
URL:https://brighteyebeerco.com/event-detail/long-beach-run-club/2028-07-19/
LOCATION:Bright Eye Beer Co. Taproom\, 50 West Park Ave\, Long Beach\, NY\, 11561\, United States
END:VEVENT
BEGIN:VEVENT
DTSTART;TZID=America/New_York:20290228T184500
DTEND;TZID=America/New_York:20290228T194500
DTSTAMP:20260423T200759
CREATED:20250123T152506Z
LAST-MODIFIED:20250123T152506Z
UID:10000279-1866998700-1867002300@brighteyebeerco.com
SUMMARY:Long Beach Run Club
DESCRIPTION:Meet @ 6:45pm\, Run @ 7pm \nWeekly 5k on the boards with the Long Beach Run Club. All are welcome. Discounted beers & prizes for running milestones available for all runners.  Follow @longbeach_runclub on Instagram for updates & other activities.
URL:https://brighteyebeerco.com/event-detail/long-beach-run-club/2029-02-28/
LOCATION:Bright Eye Beer Co. Taproom\, 50 West Park Ave\, Long Beach\, NY\, 11561\, United States
END:VEVENT
BEGIN:VEVENT
DTSTART;TZID=America/New_York:20291010T184500
DTEND;TZID=America/New_York:20291010T194500
DTSTAMP:20260423T200759
CREATED:20250123T152506Z
LAST-MODIFIED:20250123T152506Z
UID:10000311-1886352300-1886355900@brighteyebeerco.com
SUMMARY:Long Beach Run Club
DESCRIPTION:Meet @ 6:45pm\, Run @ 7pm \nWeekly 5k on the boards with the Long Beach Run Club. All are welcome. Discounted beers & prizes for running milestones available for all runners.  Follow @longbeach_runclub on Instagram for updates & other activities.
URL:https://brighteyebeerco.com/event-detail/long-beach-run-club/2029-10-10/
LOCATION:Bright Eye Beer Co. Taproom\, 50 West Park Ave\, Long Beach\, NY\, 11561\, United States
END:VEVENT
BEGIN:VEVENT
DTSTART;TZID=America/New_York:20260717T200000
DTEND;TZID=America/New_York:20260717T230000
DTSTAMP:20260423T200759
CREATED:20260327T152842Z
LAST-MODIFIED:20260327T153144Z
UID:10000608-1784318400-1784329200@brighteyebeerco.com
SUMMARY:Jammy Buffet - Upstairs Concert
DESCRIPTION:Jammy Buffet is where Jimmy Buffett’s coastal storytelling meets jam-band improvisation. Their shows blend greatest-hit singalongs\, deep-cut gems\, and cosmic grooves—sun-soaked\, high-spirited\, and always a party. \nDoors open at 7:00 PM | Show starts at 8:00 PM | 18+
URL:https://brighteyebeerco.com/event-detail/jammy-buffet-upstairs-concert/
LOCATION:Bright Eye Beer Co. Taproom\, 50 West Park Ave\, Long Beach\, NY\, 11561\, United States
CATEGORIES:Live Music
ATTACH;FMTTYPE=image/png:https://craftpeak-cooler-images.imgix.net/bright-eye-beer-co/LBM-Square-1080x1080-1.png?auto=compress%2Cformat&ixlib=php-3.3.1&s=ee4dc664cf18583ac09cd838019c26ee
END:VEVENT
BEGIN:VEVENT
DTSTART;TZID=America/New_York:20260426T103000
DTEND;TZID=America/New_York:20260426T113000
DTSTAMP:20260423T200759
CREATED:20260327T160450Z
LAST-MODIFIED:20260327T160450Z
UID:10000613-1777199400-1777203000@brighteyebeerco.com
SUMMARY:Pints & Poses
DESCRIPTION:A beginner-friendly slow-flow yoga practice with Samantha Wondsel of Point Lookout Yoga Club. Enjoy a complimentary beverage after class.
URL:https://brighteyebeerco.com/event-detail/pints-poses-12/
LOCATION:Bright Eye Beer Co. Taproom\, 50 West Park Ave\, Long Beach\, NY\, 11561\, United States
CATEGORIES:Fitness Class
END:VEVENT
BEGIN:VEVENT
DTSTART;TZID=America/New_York:20260430T180000
DTEND;TZID=America/New_York:20260430T210000
DTSTAMP:20260423T200759
CREATED:20260327T160815Z
LAST-MODIFIED:20260413T200725Z
UID:10000614-1777572000-1777582800@brighteyebeerco.com
SUMMARY:Regular Slice Party
DESCRIPTION:A celebration for our best-seller\, the Regular Slice Blonde Ale! Free regular slices from Gino’s all night with any purchase at the bar. \nLimited edition merch available!
URL:https://brighteyebeerco.com/event-detail/regular-slice-party-2/
LOCATION:Bright Eye Beer Co. Taproom\, 50 West Park Ave\, Long Beach\, NY\, 11561\, United States
CATEGORIES:Taproom Events
ATTACH;FMTTYPE=image/png:https://craftpeak-cooler-images.imgix.net/bright-eye-beer-co/RegularSliceSticker_2.png?auto=compress%2Cformat&ixlib=php-3.3.1&s=d4e9824c36474d452b2ad837d28a1271
END:VEVENT
BEGIN:VEVENT
DTSTART;TZID=America/New_York:20260425T100000
DTEND;TZID=America/New_York:20260425T130000
DTSTAMP:20260423T200759
CREATED:20260331T145921Z
LAST-MODIFIED:20260331T145921Z
UID:10000618-1777111200-1777122000@brighteyebeerco.com
SUMMARY:Long Beach Farmers Market
DESCRIPTION:We are so excited to host the Long Beach Farmers Market this spring! Catch up to 18 vendors on these special Saturdays. Located in our main taproom* downstairs. \n*Taproom will be limited to bar seating until 1:00 PM. Pouring pints to stay and crowlers to-go!
URL:https://brighteyebeerco.com/event-detail/long-beach-farmers-market-8/
LOCATION:Bright Eye Beer Co. Taproom\, 50 West Park Ave\, Long Beach\, NY\, 11561\, United States
CATEGORIES:Taproom Events,Vendor Pop-Up
END:VEVENT
END:VCALENDAR