BEGIN:VCALENDAR
VERSION:2.0
PRODID:-//Bright Eye Beer Co - ECPv6.15.12.2//NONSGML v1.0//EN
CALSCALE:GREGORIAN
METHOD:PUBLISH
X-ORIGINAL-URL:https://brighteyebeerco.com
X-WR-CALDESC:Events for Bright Eye Beer Co
REFRESH-INTERVAL;VALUE=DURATION:PT1H
X-Robots-Tag:noindex
X-PUBLISHED-TTL:PT1H
BEGIN:VTIMEZONE
TZID:America/New_York
BEGIN:DAYLIGHT
TZOFFSETFROM:-0500
TZOFFSETTO:-0400
TZNAME:EDT
DTSTART:20240310T070000
END:DAYLIGHT
BEGIN:STANDARD
TZOFFSETFROM:-0400
TZOFFSETTO:-0500
TZNAME:EST
DTSTART:20241103T060000
END:STANDARD
BEGIN:DAYLIGHT
TZOFFSETFROM:-0500
TZOFFSETTO:-0400
TZNAME:EDT
DTSTART:20250309T070000
END:DAYLIGHT
BEGIN:STANDARD
TZOFFSETFROM:-0400
TZOFFSETTO:-0500
TZNAME:EST
DTSTART:20251102T060000
END:STANDARD
BEGIN:DAYLIGHT
TZOFFSETFROM:-0500
TZOFFSETTO:-0400
TZNAME:EDT
DTSTART:20260308T070000
END:DAYLIGHT
BEGIN:STANDARD
TZOFFSETFROM:-0400
TZOFFSETTO:-0500
TZNAME:EST
DTSTART:20261101T060000
END:STANDARD
BEGIN:DAYLIGHT
TZOFFSETFROM:-0500
TZOFFSETTO:-0400
TZNAME:EDT
DTSTART:20270314T070000
END:DAYLIGHT
BEGIN:STANDARD
TZOFFSETFROM:-0400
TZOFFSETTO:-0500
TZNAME:EST
DTSTART:20271107T060000
END:STANDARD
END:VTIMEZONE
BEGIN:VEVENT
DTSTART;TZID=America/New_York:20250211T190000
DTEND;TZID=America/New_York:20250211T203000
DTSTAMP:20260423T143845
CREATED:20250124T010113Z
LAST-MODIFIED:20250124T010251Z
UID:10000394-1739300400-1739305800@brighteyebeerco.com
SUMMARY:Books & Brews
DESCRIPTION:Monthly nonfiction book club hosted by the Long Beach Public Library \nQuestions? Contact: \nNatasha Drax \n(516) 432-7201 ext. 316
URL:https://brighteyebeerco.com/event-detail/books-brews/2025-02-11/
LOCATION:Bright Eye Beer Co. Taproom\, 50 West Park Ave\, Long Beach\, NY\, 11561\, United States
CATEGORIES:Taproom Events
END:VEVENT
BEGIN:VEVENT
DTSTART;TZID=America/New_York:20250214T133000
DTEND;TZID=America/New_York:20250214T133000
DTSTAMP:20260423T143845
CREATED:20250124T004042Z
LAST-MODIFIED:20250124T004143Z
UID:10000391-1739539800-1739539800@brighteyebeerco.com
SUMMARY:Valentines Pop-Up w/ LBNY Flower Bar
DESCRIPTION:
URL:https://brighteyebeerco.com/event-detail/valentines-pop-up-w-lbny-flower-bar/
LOCATION:Bright Eye Beer Co. Taproom\, 50 West Park Ave\, Long Beach\, NY\, 11561\, United States
CATEGORIES:Vendor Pop-Up
ATTACH;FMTTYPE=image/png:https://craftpeak-cooler-images.imgix.net/bright-eye-beer-co/File.png?auto=compress%2Cformat&ixlib=php-3.3.1&s=32ea7b5ae6ce7b87a94454746cc939aa
END:VEVENT
BEGIN:VEVENT
DTSTART;TZID=America/New_York:20250221T200000
DTEND;TZID=America/New_York:20250221T230000
DTSTAMP:20260423T143845
CREATED:20250124T003732Z
LAST-MODIFIED:20250124T010500Z
UID:10000390-1740168000-1740178800@brighteyebeerco.com
SUMMARY:Generation Gap
DESCRIPTION:LB-based cover band serving up crowd pleasing rock hits from the 60s to today! \nhttps://www.instagram.com/gengapmusic/
URL:https://brighteyebeerco.com/event-detail/generation-gap/
LOCATION:Bright Eye Beer Co. Taproom\, 50 West Park Ave\, Long Beach\, NY\, 11561\, United States
CATEGORIES:Live Music
END:VEVENT
BEGIN:VEVENT
DTSTART;TZID=America/New_York:20250215T190000
DTEND;TZID=America/New_York:20250215T220000
DTSTAMP:20260423T143845
CREATED:20250124T002329Z
LAST-MODIFIED:20250124T002329Z
UID:10000389-1739646000-1739656800@brighteyebeerco.com
SUMMARY:F.A.R. Trio
DESCRIPTION:Our favorite trio from upstate bringing you a needed dose of Earthy Fusion and Soul Drenched Rock and Roll
URL:https://brighteyebeerco.com/event-detail/f-a-r-trio/
LOCATION:Bright Eye Beer Co. Taproom\, 50 West Park Ave\, Long Beach\, NY\, 11561\, United States
CATEGORIES:Live Music
ATTACH;FMTTYPE=image/png:https://craftpeak-cooler-images.imgix.net/bright-eye-beer-co/Screen-Shot-2025-01-23-at-7.21.53-PM.png?auto=compress%2Cformat&ixlib=php-3.3.1&s=b6504cc914808879ee7fa85f594d3a3a
END:VEVENT
BEGIN:VEVENT
DTSTART;TZID=America/New_York:20250207T200000
DTEND;TZID=America/New_York:20250207T230000
DTSTAMP:20260423T143845
CREATED:20250124T001537Z
LAST-MODIFIED:20250124T001537Z
UID:10000388-1738958400-1738969200@brighteyebeerco.com
SUMMARY:Quarter Roy
DESCRIPTION:Psychedelic Jam Rock
URL:https://brighteyebeerco.com/event-detail/quarter-roy/
LOCATION:Bright Eye Beer Co. Taproom\, 50 West Park Ave\, Long Beach\, NY\, 11561\, United States
CATEGORIES:Live Music
ATTACH;FMTTYPE=image/png:https://craftpeak-cooler-images.imgix.net/bright-eye-beer-co/Screen-Shot-2025-01-23-at-7.13.57-PM.png?auto=compress%2Cformat&ixlib=php-3.3.1&s=8f054f05717d56e05b3ce270ba926ca2
END:VEVENT
BEGIN:VEVENT
DTSTART;VALUE=DATE:20250222
DTEND;VALUE=DATE:20250223
DTSTAMP:20260423T143845
CREATED:20250124T000901Z
LAST-MODIFIED:20250214T170521Z
UID:10000387-1740182400-1740268799@brighteyebeerco.com
SUMMARY:Reelin' in the Beers: 5 Year Anniversary Celebration
DESCRIPTION:Games\, Grub\, Giveaways\, Live Music & a New Beer Release!
URL:https://brighteyebeerco.com/event-detail/reelin-in-the-beers-5-year-anniversary-celebration/
LOCATION:Bright Eye Beer Co. Taproom\, 50 West Park Ave\, Long Beach\, NY\, 11561\, United States
CATEGORIES:Food Pop-Up,Live Music,Taproom Events
ATTACH;FMTTYPE=image/png:https://craftpeak-cooler-images.imgix.net/bright-eye-beer-co/Copy-of-Copy-of-happy-holidays-1080-x-1350-px-1.png?auto=compress%2Cformat&ixlib=php-3.3.1&s=b4b32f8844078de2f69227efc5771a54
END:VEVENT
BEGIN:VEVENT
DTSTART;TZID=America/New_York:20250209T130000
DTEND;TZID=America/New_York:20250209T170000
DTSTAMP:20260423T143845
CREATED:20250123T211608Z
LAST-MODIFIED:20250123T211652Z
UID:10000386-1739106000-1739120400@brighteyebeerco.com
SUMMARY:IRIEspect Post-Plunge Party
DESCRIPTION:Warm up with us post-plunge as we host LI’s reggae/dub/jam legends on the downstairs stage.
URL:https://brighteyebeerco.com/event-detail/iriespect-post-plunge-party/
LOCATION:Bright Eye Beer Co. Taproom\, 50 West Park Ave\, Long Beach\, NY\, 11561\, United States
END:VEVENT
BEGIN:VEVENT
DTSTART;TZID=America/New_York:20250208T190000
DTEND;TZID=America/New_York:20250208T220000
DTSTAMP:20260423T143845
CREATED:20250123T200345Z
LAST-MODIFIED:20250123T200345Z
UID:10000385-1739041200-1739052000@brighteyebeerco.com
SUMMARY:Dave Kellan Solo
DESCRIPTION:
URL:https://brighteyebeerco.com/event-detail/dave-kellan-solo/
LOCATION:Bright Eye Beer Co. Taproom\, 50 West Park Ave\, Long Beach\, NY\, 11561\, United States
CATEGORIES:Live Music
END:VEVENT
BEGIN:VEVENT
DTSTART;TZID=America/New_York:20250130T203000
DTEND;TZID=America/New_York:20250130T213000
DTSTAMP:20260423T143845
CREATED:20250123T153426Z
LAST-MODIFIED:20250123T212117Z
UID:10000329-1738269000-1738272600@brighteyebeerco.com
SUMMARY:LI Kick Cornhole Express Tournaments
DESCRIPTION:We are running free open play to everyone and anyone who wants to play cornhole upstairs at 8:30pm. Sign up as an individual and get paired up throughout the night for a chance to win free beer! Free to play.
URL:https://brighteyebeerco.com/event-detail/li-kick-cornhole-express-tournaments/2025-01-30/
LOCATION:Bright Eye Beer Co. Taproom\, 50 West Park Ave\, Long Beach\, NY\, 11561\, United States
END:VEVENT
BEGIN:VEVENT
DTSTART;TZID=America/New_York:20250206T203000
DTEND;TZID=America/New_York:20250206T213000
DTSTAMP:20260423T143845
CREATED:20250123T153426Z
LAST-MODIFIED:20250123T212117Z
UID:10000330-1738873800-1738877400@brighteyebeerco.com
SUMMARY:LI Kick Cornhole Express Tournaments
DESCRIPTION:We are running free open play to everyone and anyone who wants to play cornhole upstairs at 8:30pm. Sign up as an individual and get paired up throughout the night for a chance to win free beer! Free to play.
URL:https://brighteyebeerco.com/event-detail/li-kick-cornhole-express-tournaments/2025-02-06/
LOCATION:Bright Eye Beer Co. Taproom\, 50 West Park Ave\, Long Beach\, NY\, 11561\, United States
END:VEVENT
BEGIN:VEVENT
DTSTART;TZID=America/New_York:20250213T203000
DTEND;TZID=America/New_York:20250213T213000
DTSTAMP:20260423T143845
CREATED:20250123T153426Z
LAST-MODIFIED:20250123T212117Z
UID:10000331-1739478600-1739482200@brighteyebeerco.com
SUMMARY:LI Kick Cornhole Express Tournaments
DESCRIPTION:We are running free open play to everyone and anyone who wants to play cornhole upstairs at 8:30pm. Sign up as an individual and get paired up throughout the night for a chance to win free beer! Free to play.
URL:https://brighteyebeerco.com/event-detail/li-kick-cornhole-express-tournaments/2025-02-13/
LOCATION:Bright Eye Beer Co. Taproom\, 50 West Park Ave\, Long Beach\, NY\, 11561\, United States
END:VEVENT
BEGIN:VEVENT
DTSTART;TZID=America/New_York:20250116T203000
DTEND;TZID=America/New_York:20250116T213000
DTSTAMP:20260423T143845
CREATED:20250123T153426Z
LAST-MODIFIED:20250123T212117Z
UID:10000327-1737059400-1737063000@brighteyebeerco.com
SUMMARY:LI Kick Cornhole Express Tournaments
DESCRIPTION:We are running free open play to everyone and anyone who wants to play cornhole upstairs at 8:30pm. Sign up as an individual and get paired up throughout the night for a chance to win free beer! Free to play.
URL:https://brighteyebeerco.com/event-detail/li-kick-cornhole-express-tournaments/2025-01-16/
LOCATION:Bright Eye Beer Co. Taproom\, 50 West Park Ave\, Long Beach\, NY\, 11561\, United States
END:VEVENT
BEGIN:VEVENT
DTSTART;TZID=America/New_York:20250123T203000
DTEND;TZID=America/New_York:20250123T213000
DTSTAMP:20260423T143845
CREATED:20250123T153426Z
LAST-MODIFIED:20250123T212117Z
UID:10000328-1737664200-1737667800@brighteyebeerco.com
SUMMARY:LI Kick Cornhole Express Tournaments
DESCRIPTION:We are running free open play to everyone and anyone who wants to play cornhole upstairs at 8:30pm. Sign up as an individual and get paired up throughout the night for a chance to win free beer! Free to play.
URL:https://brighteyebeerco.com/event-detail/li-kick-cornhole-express-tournaments/2025-01-23/
LOCATION:Bright Eye Beer Co. Taproom\, 50 West Park Ave\, Long Beach\, NY\, 11561\, United States
END:VEVENT
BEGIN:VEVENT
DTSTART;TZID=America/New_York:20250219T184500
DTEND;TZID=America/New_York:20250219T194500
DTSTAMP:20260423T143845
CREATED:20250123T152506Z
LAST-MODIFIED:20250123T152506Z
UID:10000069-1739990700-1739994300@brighteyebeerco.com
SUMMARY:Long Beach Run Club
DESCRIPTION:Meet @ 6:45pm\, Run @ 7pm \nWeekly 5k on the boards with the Long Beach Run Club. All are welcome. Discounted beers & prizes for running milestones available for all runners.  Follow @longbeach_runclub on Instagram for updates & other activities.
URL:https://brighteyebeerco.com/event-detail/long-beach-run-club/2025-02-19/
LOCATION:Bright Eye Beer Co. Taproom\, 50 West Park Ave\, Long Beach\, NY\, 11561\, United States
END:VEVENT
BEGIN:VEVENT
DTSTART;TZID=America/New_York:20251001T184500
DTEND;TZID=America/New_York:20251001T194500
DTSTAMP:20260423T143845
CREATED:20250123T152506Z
LAST-MODIFIED:20250123T152506Z
UID:10000101-1759344300-1759347900@brighteyebeerco.com
SUMMARY:Long Beach Run Club
DESCRIPTION:Meet @ 6:45pm\, Run @ 7pm \nWeekly 5k on the boards with the Long Beach Run Club. All are welcome. Discounted beers & prizes for running milestones available for all runners.  Follow @longbeach_runclub on Instagram for updates & other activities.
URL:https://brighteyebeerco.com/event-detail/long-beach-run-club/2025-10-01/
LOCATION:Bright Eye Beer Co. Taproom\, 50 West Park Ave\, Long Beach\, NY\, 11561\, United States
END:VEVENT
BEGIN:VEVENT
DTSTART;TZID=America/New_York:20250507T184500
DTEND;TZID=America/New_York:20250507T194500
DTSTAMP:20260423T143845
CREATED:20250123T152506Z
LAST-MODIFIED:20250123T152506Z
UID:10000080-1746643500-1746647100@brighteyebeerco.com
SUMMARY:Long Beach Run Club
DESCRIPTION:Meet @ 6:45pm\, Run @ 7pm \nWeekly 5k on the boards with the Long Beach Run Club. All are welcome. Discounted beers & prizes for running milestones available for all runners.  Follow @longbeach_runclub on Instagram for updates & other activities.
URL:https://brighteyebeerco.com/event-detail/long-beach-run-club/2025-05-07/
LOCATION:Bright Eye Beer Co. Taproom\, 50 West Park Ave\, Long Beach\, NY\, 11561\, United States
END:VEVENT
BEGIN:VEVENT
DTSTART;TZID=America/New_York:20251217T184500
DTEND;TZID=America/New_York:20251217T194500
DTSTAMP:20260423T143845
CREATED:20250123T152506Z
LAST-MODIFIED:20250123T152506Z
UID:10000112-1765997100-1766000700@brighteyebeerco.com
SUMMARY:Long Beach Run Club
DESCRIPTION:Meet @ 6:45pm\, Run @ 7pm \nWeekly 5k on the boards with the Long Beach Run Club. All are welcome. Discounted beers & prizes for running milestones available for all runners.  Follow @longbeach_runclub on Instagram for updates & other activities.
URL:https://brighteyebeerco.com/event-detail/long-beach-run-club/2025-12-17/
LOCATION:Bright Eye Beer Co. Taproom\, 50 West Park Ave\, Long Beach\, NY\, 11561\, United States
END:VEVENT
BEGIN:VEVENT
DTSTART;TZID=America/New_York:20250723T184500
DTEND;TZID=America/New_York:20250723T194500
DTSTAMP:20260423T143845
CREATED:20250123T152506Z
LAST-MODIFIED:20250123T152506Z
UID:10000091-1753296300-1753299900@brighteyebeerco.com
SUMMARY:Long Beach Run Club
DESCRIPTION:Meet @ 6:45pm\, Run @ 7pm \nWeekly 5k on the boards with the Long Beach Run Club. All are welcome. Discounted beers & prizes for running milestones available for all runners.  Follow @longbeach_runclub on Instagram for updates & other activities.
URL:https://brighteyebeerco.com/event-detail/long-beach-run-club/2025-07-23/
LOCATION:Bright Eye Beer Co. Taproom\, 50 West Park Ave\, Long Beach\, NY\, 11561\, United States
END:VEVENT
BEGIN:VEVENT
DTSTART;TZID=America/New_York:20260304T184500
DTEND;TZID=America/New_York:20260304T194500
DTSTAMP:20260423T143845
CREATED:20250123T152506Z
LAST-MODIFIED:20250123T152506Z
UID:10000123-1772649900-1772653500@brighteyebeerco.com
SUMMARY:Long Beach Run Club
DESCRIPTION:Meet @ 6:45pm\, Run @ 7pm \nWeekly 5k on the boards with the Long Beach Run Club. All are welcome. Discounted beers & prizes for running milestones available for all runners.  Follow @longbeach_runclub on Instagram for updates & other activities.
URL:https://brighteyebeerco.com/event-detail/long-beach-run-club/2026-03-04/
LOCATION:Bright Eye Beer Co. Taproom\, 50 West Park Ave\, Long Beach\, NY\, 11561\, United States
END:VEVENT
BEGIN:VEVENT
DTSTART;TZID=America/New_York:20250226T184500
DTEND;TZID=America/New_York:20250226T194500
DTSTAMP:20260423T143845
CREATED:20250123T152506Z
LAST-MODIFIED:20250123T152506Z
UID:10000070-1740595500-1740599100@brighteyebeerco.com
SUMMARY:Long Beach Run Club
DESCRIPTION:Meet @ 6:45pm\, Run @ 7pm \nWeekly 5k on the boards with the Long Beach Run Club. All are welcome. Discounted beers & prizes for running milestones available for all runners.  Follow @longbeach_runclub on Instagram for updates & other activities.
URL:https://brighteyebeerco.com/event-detail/long-beach-run-club/2025-02-26/
LOCATION:Bright Eye Beer Co. Taproom\, 50 West Park Ave\, Long Beach\, NY\, 11561\, United States
END:VEVENT
BEGIN:VEVENT
DTSTART;TZID=America/New_York:20251008T184500
DTEND;TZID=America/New_York:20251008T194500
DTSTAMP:20260423T143845
CREATED:20250123T152506Z
LAST-MODIFIED:20250123T152506Z
UID:10000102-1759949100-1759952700@brighteyebeerco.com
SUMMARY:Long Beach Run Club
DESCRIPTION:Meet @ 6:45pm\, Run @ 7pm \nWeekly 5k on the boards with the Long Beach Run Club. All are welcome. Discounted beers & prizes for running milestones available for all runners.  Follow @longbeach_runclub on Instagram for updates & other activities.
URL:https://brighteyebeerco.com/event-detail/long-beach-run-club/2025-10-08/
LOCATION:Bright Eye Beer Co. Taproom\, 50 West Park Ave\, Long Beach\, NY\, 11561\, United States
END:VEVENT
BEGIN:VEVENT
DTSTART;TZID=America/New_York:20250514T184500
DTEND;TZID=America/New_York:20250514T194500
DTSTAMP:20260423T143845
CREATED:20250123T152506Z
LAST-MODIFIED:20250123T152506Z
UID:10000081-1747248300-1747251900@brighteyebeerco.com
SUMMARY:Long Beach Run Club
DESCRIPTION:Meet @ 6:45pm\, Run @ 7pm \nWeekly 5k on the boards with the Long Beach Run Club. All are welcome. Discounted beers & prizes for running milestones available for all runners.  Follow @longbeach_runclub on Instagram for updates & other activities.
URL:https://brighteyebeerco.com/event-detail/long-beach-run-club/2025-05-14/
LOCATION:Bright Eye Beer Co. Taproom\, 50 West Park Ave\, Long Beach\, NY\, 11561\, United States
END:VEVENT
BEGIN:VEVENT
DTSTART;TZID=America/New_York:20251224T184500
DTEND;TZID=America/New_York:20251224T194500
DTSTAMP:20260423T143845
CREATED:20250123T152506Z
LAST-MODIFIED:20250123T152506Z
UID:10000113-1766601900-1766605500@brighteyebeerco.com
SUMMARY:Long Beach Run Club
DESCRIPTION:Meet @ 6:45pm\, Run @ 7pm \nWeekly 5k on the boards with the Long Beach Run Club. All are welcome. Discounted beers & prizes for running milestones available for all runners.  Follow @longbeach_runclub on Instagram for updates & other activities.
URL:https://brighteyebeerco.com/event-detail/long-beach-run-club/2025-12-24/
LOCATION:Bright Eye Beer Co. Taproom\, 50 West Park Ave\, Long Beach\, NY\, 11561\, United States
END:VEVENT
BEGIN:VEVENT
DTSTART;TZID=America/New_York:20250730T184500
DTEND;TZID=America/New_York:20250730T194500
DTSTAMP:20260423T143845
CREATED:20250123T152506Z
LAST-MODIFIED:20250123T152506Z
UID:10000092-1753901100-1753904700@brighteyebeerco.com
SUMMARY:Long Beach Run Club
DESCRIPTION:Meet @ 6:45pm\, Run @ 7pm \nWeekly 5k on the boards with the Long Beach Run Club. All are welcome. Discounted beers & prizes for running milestones available for all runners.  Follow @longbeach_runclub on Instagram for updates & other activities.
URL:https://brighteyebeerco.com/event-detail/long-beach-run-club/2025-07-30/
LOCATION:Bright Eye Beer Co. Taproom\, 50 West Park Ave\, Long Beach\, NY\, 11561\, United States
END:VEVENT
BEGIN:VEVENT
DTSTART;TZID=America/New_York:20260311T184500
DTEND;TZID=America/New_York:20260311T194500
DTSTAMP:20260423T143845
CREATED:20250123T152506Z
LAST-MODIFIED:20250123T152506Z
UID:10000124-1773254700-1773258300@brighteyebeerco.com
SUMMARY:Long Beach Run Club
DESCRIPTION:Meet @ 6:45pm\, Run @ 7pm \nWeekly 5k on the boards with the Long Beach Run Club. All are welcome. Discounted beers & prizes for running milestones available for all runners.  Follow @longbeach_runclub on Instagram for updates & other activities.
URL:https://brighteyebeerco.com/event-detail/long-beach-run-club/2026-03-11/
LOCATION:Bright Eye Beer Co. Taproom\, 50 West Park Ave\, Long Beach\, NY\, 11561\, United States
END:VEVENT
BEGIN:VEVENT
DTSTART;TZID=America/New_York:20250305T184500
DTEND;TZID=America/New_York:20250305T194500
DTSTAMP:20260423T143845
CREATED:20250123T152506Z
LAST-MODIFIED:20250123T152506Z
UID:10000071-1741200300-1741203900@brighteyebeerco.com
SUMMARY:Long Beach Run Club
DESCRIPTION:Meet @ 6:45pm\, Run @ 7pm \nWeekly 5k on the boards with the Long Beach Run Club. All are welcome. Discounted beers & prizes for running milestones available for all runners.  Follow @longbeach_runclub on Instagram for updates & other activities.
URL:https://brighteyebeerco.com/event-detail/long-beach-run-club/2025-03-05/
LOCATION:Bright Eye Beer Co. Taproom\, 50 West Park Ave\, Long Beach\, NY\, 11561\, United States
END:VEVENT
BEGIN:VEVENT
DTSTART;TZID=America/New_York:20251015T184500
DTEND;TZID=America/New_York:20251015T194500
DTSTAMP:20260423T143845
CREATED:20250123T152506Z
LAST-MODIFIED:20250123T152506Z
UID:10000103-1760553900-1760557500@brighteyebeerco.com
SUMMARY:Long Beach Run Club
DESCRIPTION:Meet @ 6:45pm\, Run @ 7pm \nWeekly 5k on the boards with the Long Beach Run Club. All are welcome. Discounted beers & prizes for running milestones available for all runners.  Follow @longbeach_runclub on Instagram for updates & other activities.
URL:https://brighteyebeerco.com/event-detail/long-beach-run-club/2025-10-15/
LOCATION:Bright Eye Beer Co. Taproom\, 50 West Park Ave\, Long Beach\, NY\, 11561\, United States
END:VEVENT
BEGIN:VEVENT
DTSTART;TZID=America/New_York:20250521T184500
DTEND;TZID=America/New_York:20250521T194500
DTSTAMP:20260423T143845
CREATED:20250123T152506Z
LAST-MODIFIED:20250123T152506Z
UID:10000082-1747853100-1747856700@brighteyebeerco.com
SUMMARY:Long Beach Run Club
DESCRIPTION:Meet @ 6:45pm\, Run @ 7pm \nWeekly 5k on the boards with the Long Beach Run Club. All are welcome. Discounted beers & prizes for running milestones available for all runners.  Follow @longbeach_runclub on Instagram for updates & other activities.
URL:https://brighteyebeerco.com/event-detail/long-beach-run-club/2025-05-21/
LOCATION:Bright Eye Beer Co. Taproom\, 50 West Park Ave\, Long Beach\, NY\, 11561\, United States
END:VEVENT
BEGIN:VEVENT
DTSTART;TZID=America/New_York:20251231T184500
DTEND;TZID=America/New_York:20251231T194500
DTSTAMP:20260423T143845
CREATED:20250123T152506Z
LAST-MODIFIED:20250123T152506Z
UID:10000114-1767206700-1767210300@brighteyebeerco.com
SUMMARY:Long Beach Run Club
DESCRIPTION:Meet @ 6:45pm\, Run @ 7pm \nWeekly 5k on the boards with the Long Beach Run Club. All are welcome. Discounted beers & prizes for running milestones available for all runners.  Follow @longbeach_runclub on Instagram for updates & other activities.
URL:https://brighteyebeerco.com/event-detail/long-beach-run-club/2025-12-31/
LOCATION:Bright Eye Beer Co. Taproom\, 50 West Park Ave\, Long Beach\, NY\, 11561\, United States
END:VEVENT
BEGIN:VEVENT
DTSTART;TZID=America/New_York:20250806T184500
DTEND;TZID=America/New_York:20250806T194500
DTSTAMP:20260423T143845
CREATED:20250123T152506Z
LAST-MODIFIED:20250123T152506Z
UID:10000093-1754505900-1754509500@brighteyebeerco.com
SUMMARY:Long Beach Run Club
DESCRIPTION:Meet @ 6:45pm\, Run @ 7pm \nWeekly 5k on the boards with the Long Beach Run Club. All are welcome. Discounted beers & prizes for running milestones available for all runners.  Follow @longbeach_runclub on Instagram for updates & other activities.
URL:https://brighteyebeerco.com/event-detail/long-beach-run-club/2025-08-06/
LOCATION:Bright Eye Beer Co. Taproom\, 50 West Park Ave\, Long Beach\, NY\, 11561\, United States
END:VEVENT
END:VCALENDAR