BEGIN:VCALENDAR
VERSION:2.0
PRODID:-//Bright Eye Beer Co - ECPv6.15.12.2//NONSGML v1.0//EN
CALSCALE:GREGORIAN
METHOD:PUBLISH
X-ORIGINAL-URL:https://brighteyebeerco.com
X-WR-CALDESC:Events for Bright Eye Beer Co
REFRESH-INTERVAL;VALUE=DURATION:PT1H
X-Robots-Tag:noindex
X-PUBLISHED-TTL:PT1H
BEGIN:VTIMEZONE
TZID:America/New_York
BEGIN:DAYLIGHT
TZOFFSETFROM:-0500
TZOFFSETTO:-0400
TZNAME:EDT
DTSTART:20230312T070000
END:DAYLIGHT
BEGIN:STANDARD
TZOFFSETFROM:-0400
TZOFFSETTO:-0500
TZNAME:EST
DTSTART:20231105T060000
END:STANDARD
BEGIN:DAYLIGHT
TZOFFSETFROM:-0500
TZOFFSETTO:-0400
TZNAME:EDT
DTSTART:20240310T070000
END:DAYLIGHT
BEGIN:STANDARD
TZOFFSETFROM:-0400
TZOFFSETTO:-0500
TZNAME:EST
DTSTART:20241103T060000
END:STANDARD
BEGIN:DAYLIGHT
TZOFFSETFROM:-0500
TZOFFSETTO:-0400
TZNAME:EDT
DTSTART:20250309T070000
END:DAYLIGHT
BEGIN:STANDARD
TZOFFSETFROM:-0400
TZOFFSETTO:-0500
TZNAME:EST
DTSTART:20251102T060000
END:STANDARD
BEGIN:DAYLIGHT
TZOFFSETFROM:-0500
TZOFFSETTO:-0400
TZNAME:EDT
DTSTART:20260308T070000
END:DAYLIGHT
BEGIN:STANDARD
TZOFFSETFROM:-0400
TZOFFSETTO:-0500
TZNAME:EST
DTSTART:20261101T060000
END:STANDARD
BEGIN:DAYLIGHT
TZOFFSETFROM:-0500
TZOFFSETTO:-0400
TZNAME:EDT
DTSTART:20270314T070000
END:DAYLIGHT
BEGIN:STANDARD
TZOFFSETFROM:-0400
TZOFFSETTO:-0500
TZNAME:EST
DTSTART:20271107T060000
END:STANDARD
END:VTIMEZONE
BEGIN:VEVENT
DTSTART;TZID=America/New_York:20250423T184500
DTEND;TZID=America/New_York:20250423T194500
DTSTAMP:20260424T040437
CREATED:20250123T152506Z
LAST-MODIFIED:20250123T152506Z
UID:10000078-1745433900-1745437500@brighteyebeerco.com
SUMMARY:Long Beach Run Club
DESCRIPTION:Meet @ 6:45pm\, Run @ 7pm \nWeekly 5k on the boards with the Long Beach Run Club. All are welcome. Discounted beers & prizes for running milestones available for all runners.  Follow @longbeach_runclub on Instagram for updates & other activities.
URL:https://brighteyebeerco.com/event-detail/long-beach-run-club/2025-04-23/
LOCATION:Bright Eye Beer Co. Taproom\, 50 West Park Ave\, Long Beach\, NY\, 11561\, United States
END:VEVENT
BEGIN:VEVENT
DTSTART;TZID=America/New_York:20251203T184500
DTEND;TZID=America/New_York:20251203T194500
DTSTAMP:20260424T040437
CREATED:20250123T152506Z
LAST-MODIFIED:20250123T152506Z
UID:10000110-1764787500-1764791100@brighteyebeerco.com
SUMMARY:Long Beach Run Club
DESCRIPTION:Meet @ 6:45pm\, Run @ 7pm \nWeekly 5k on the boards with the Long Beach Run Club. All are welcome. Discounted beers & prizes for running milestones available for all runners.  Follow @longbeach_runclub on Instagram for updates & other activities.
URL:https://brighteyebeerco.com/event-detail/long-beach-run-club/2025-12-03/
LOCATION:Bright Eye Beer Co. Taproom\, 50 West Park Ave\, Long Beach\, NY\, 11561\, United States
END:VEVENT
BEGIN:VEVENT
DTSTART;TZID=America/New_York:20250709T184500
DTEND;TZID=America/New_York:20250709T194500
DTSTAMP:20260424T040437
CREATED:20250123T152506Z
LAST-MODIFIED:20250123T152506Z
UID:10000089-1752086700-1752090300@brighteyebeerco.com
SUMMARY:Long Beach Run Club
DESCRIPTION:Meet @ 6:45pm\, Run @ 7pm \nWeekly 5k on the boards with the Long Beach Run Club. All are welcome. Discounted beers & prizes for running milestones available for all runners.  Follow @longbeach_runclub on Instagram for updates & other activities.
URL:https://brighteyebeerco.com/event-detail/long-beach-run-club/2025-07-09/
LOCATION:Bright Eye Beer Co. Taproom\, 50 West Park Ave\, Long Beach\, NY\, 11561\, United States
END:VEVENT
BEGIN:VEVENT
DTSTART;TZID=America/New_York:20260218T184500
DTEND;TZID=America/New_York:20260218T194500
DTSTAMP:20260424T040437
CREATED:20250123T152506Z
LAST-MODIFIED:20250123T152506Z
UID:10000121-1771440300-1771443900@brighteyebeerco.com
SUMMARY:Long Beach Run Club
DESCRIPTION:Meet @ 6:45pm\, Run @ 7pm \nWeekly 5k on the boards with the Long Beach Run Club. All are welcome. Discounted beers & prizes for running milestones available for all runners.  Follow @longbeach_runclub on Instagram for updates & other activities.
URL:https://brighteyebeerco.com/event-detail/long-beach-run-club/2026-02-18/
LOCATION:Bright Eye Beer Co. Taproom\, 50 West Park Ave\, Long Beach\, NY\, 11561\, United States
END:VEVENT
BEGIN:VEVENT
DTSTART;TZID=America/New_York:20250212T184500
DTEND;TZID=America/New_York:20250212T194500
DTSTAMP:20260424T040437
CREATED:20250123T152506Z
LAST-MODIFIED:20250123T152506Z
UID:10000068-1739385900-1739389500@brighteyebeerco.com
SUMMARY:Long Beach Run Club
DESCRIPTION:Meet @ 6:45pm\, Run @ 7pm \nWeekly 5k on the boards with the Long Beach Run Club. All are welcome. Discounted beers & prizes for running milestones available for all runners.  Follow @longbeach_runclub on Instagram for updates & other activities.
URL:https://brighteyebeerco.com/event-detail/long-beach-run-club/2025-02-12/
LOCATION:Bright Eye Beer Co. Taproom\, 50 West Park Ave\, Long Beach\, NY\, 11561\, United States
END:VEVENT
BEGIN:VEVENT
DTSTART;TZID=America/New_York:20250924T184500
DTEND;TZID=America/New_York:20250924T194500
DTSTAMP:20260424T040437
CREATED:20250123T152506Z
LAST-MODIFIED:20250123T152506Z
UID:10000100-1758739500-1758743100@brighteyebeerco.com
SUMMARY:Long Beach Run Club
DESCRIPTION:Meet @ 6:45pm\, Run @ 7pm \nWeekly 5k on the boards with the Long Beach Run Club. All are welcome. Discounted beers & prizes for running milestones available for all runners.  Follow @longbeach_runclub on Instagram for updates & other activities.
URL:https://brighteyebeerco.com/event-detail/long-beach-run-club/2025-09-24/
LOCATION:Bright Eye Beer Co. Taproom\, 50 West Park Ave\, Long Beach\, NY\, 11561\, United States
END:VEVENT
BEGIN:VEVENT
DTSTART;TZID=America/New_York:20250430T184500
DTEND;TZID=America/New_York:20250430T194500
DTSTAMP:20260424T040437
CREATED:20250123T152506Z
LAST-MODIFIED:20250123T152506Z
UID:10000079-1746038700-1746042300@brighteyebeerco.com
SUMMARY:Long Beach Run Club
DESCRIPTION:Meet @ 6:45pm\, Run @ 7pm \nWeekly 5k on the boards with the Long Beach Run Club. All are welcome. Discounted beers & prizes for running milestones available for all runners.  Follow @longbeach_runclub on Instagram for updates & other activities.
URL:https://brighteyebeerco.com/event-detail/long-beach-run-club/2025-04-30/
LOCATION:Bright Eye Beer Co. Taproom\, 50 West Park Ave\, Long Beach\, NY\, 11561\, United States
END:VEVENT
BEGIN:VEVENT
DTSTART;TZID=America/New_York:20251210T184500
DTEND;TZID=America/New_York:20251210T194500
DTSTAMP:20260424T040437
CREATED:20250123T152506Z
LAST-MODIFIED:20250123T152506Z
UID:10000111-1765392300-1765395900@brighteyebeerco.com
SUMMARY:Long Beach Run Club
DESCRIPTION:Meet @ 6:45pm\, Run @ 7pm \nWeekly 5k on the boards with the Long Beach Run Club. All are welcome. Discounted beers & prizes for running milestones available for all runners.  Follow @longbeach_runclub on Instagram for updates & other activities.
URL:https://brighteyebeerco.com/event-detail/long-beach-run-club/2025-12-10/
LOCATION:Bright Eye Beer Co. Taproom\, 50 West Park Ave\, Long Beach\, NY\, 11561\, United States
END:VEVENT
BEGIN:VEVENT
DTSTART;TZID=America/New_York:20250716T184500
DTEND;TZID=America/New_York:20250716T194500
DTSTAMP:20260424T040437
CREATED:20250123T152506Z
LAST-MODIFIED:20250123T152506Z
UID:10000090-1752691500-1752695100@brighteyebeerco.com
SUMMARY:Long Beach Run Club
DESCRIPTION:Meet @ 6:45pm\, Run @ 7pm \nWeekly 5k on the boards with the Long Beach Run Club. All are welcome. Discounted beers & prizes for running milestones available for all runners.  Follow @longbeach_runclub on Instagram for updates & other activities.
URL:https://brighteyebeerco.com/event-detail/long-beach-run-club/2025-07-16/
LOCATION:Bright Eye Beer Co. Taproom\, 50 West Park Ave\, Long Beach\, NY\, 11561\, United States
END:VEVENT
BEGIN:VEVENT
DTSTART;TZID=America/New_York:20260225T184500
DTEND;TZID=America/New_York:20260225T194500
DTSTAMP:20260424T040437
CREATED:20250123T152506Z
LAST-MODIFIED:20250123T152506Z
UID:10000122-1772045100-1772048700@brighteyebeerco.com
SUMMARY:Long Beach Run Club
DESCRIPTION:Meet @ 6:45pm\, Run @ 7pm \nWeekly 5k on the boards with the Long Beach Run Club. All are welcome. Discounted beers & prizes for running milestones available for all runners.  Follow @longbeach_runclub on Instagram for updates & other activities.
URL:https://brighteyebeerco.com/event-detail/long-beach-run-club/2026-02-25/
LOCATION:Bright Eye Beer Co. Taproom\, 50 West Park Ave\, Long Beach\, NY\, 11561\, United States
END:VEVENT
BEGIN:VEVENT
DTSTART;TZID=America/New_York:20250201T200000
DTEND;TZID=America/New_York:20250201T230000
DTSTAMP:20260424T040437
CREATED:20250122T203550Z
LAST-MODIFIED:20250122T203632Z
UID:10000060-1738440000-1738450800@brighteyebeerco.com
SUMMARY:Dave & Craig
DESCRIPTION:Kickin’ off February with live tunes from 2/3 of the Noisy Neighbors.
URL:https://brighteyebeerco.com/event-detail/dave-craig/
LOCATION:Bright Eye Beer Co. Taproom\, 50 West Park Ave\, Long Beach\, NY\, 11561\, United States
CATEGORIES:Live Music
ATTACH;FMTTYPE=image/jpeg:https://craftpeak-cooler-images.imgix.net/bright-eye-beer-co/000154470015.jpg?auto=compress%2Cformat&ixlib=php-3.3.1&s=c633a82bc7e53d836d4aaeaa9b21ed67
END:VEVENT
BEGIN:VEVENT
DTSTART;TZID=America/New_York:20250208T120000
DTEND;TZID=America/New_York:20250208T190000
DTSTAMP:20260424T040437
CREATED:20250122T200928Z
LAST-MODIFIED:20250123T200135Z
UID:10000059-1739016000-1739041200@brighteyebeerco.com
SUMMARY:Sea City Vintage Market: Vintage is for Lovers
DESCRIPTION:Sea City Vintage and Bright Eye Beer Co are excited to host our second multi-dealer vintage market on Saturday\, February 8th in Long Beach\, New York. We have curated 22 vendors to bring their best vintage clothing\, accessories\, records\, home décor and furniture for an all-day shopping experience. \n\n12-1 Early Bird \n1-7 Public Shopping
URL:https://brighteyebeerco.com/event-detail/sea-city-vintage-market-vintage-is-for-lovers/
LOCATION:Bright Eye Beer Co. Taproom\, 50 West Park Ave\, Long Beach\, NY\, 11561\, United States
ATTACH;FMTTYPE=image/png:https://craftpeak-cooler-images.imgix.net/bright-eye-beer-co/SCVM-Valentines-Day-1x1-1.png?auto=compress%2Cformat&ixlib=php-3.3.1&s=f7d37861289c57a9a08152b477d6841c
END:VEVENT
BEGIN:VEVENT
DTSTART;TZID=America/New_York:20250130T190000
DTEND;TZID=America/New_York:20250130T210000
DTSTAMP:20260424T040437
CREATED:20250122T192259Z
LAST-MODIFIED:20250122T202448Z
UID:10000058-1738263600-1738270800@brighteyebeerco.com
SUMMARY:Beach Wines Pop-Up
DESCRIPTION:Our friend and fellow LB small biz\, Beach Wines\, will be popping up to share of some of New York’s natural wines. Stop in for a taste\, have a glass with us\, and learn more about what some of these innovative wineries are doing in our own backyard. Beach Wines will be sharing samples & we’ll be buying some cases to see in-house if you’d like some full pours.
URL:https://brighteyebeerco.com/event-detail/beach-wines-pop-up/
LOCATION:Bright Eye Beer Co. Taproom\, 50 West Park Ave\, Long Beach\, NY\, 11561\, United States
ATTACH;FMTTYPE=image/png:https://craftpeak-cooler-images.imgix.net/bright-eye-beer-co/beach-wine-logo-2.png?auto=compress%2Cformat&ixlib=php-3.3.1&s=660df8a4c288a015898d4ca0a6b8cc78
END:VEVENT
BEGIN:VEVENT
DTSTART;TZID=America/New_York:20250125T130000
DTEND;TZID=America/New_York:20250125T170000
DTSTAMP:20260424T040437
CREATED:20250122T190628Z
LAST-MODIFIED:20250122T202404Z
UID:10000057-1737810000-1737824400@brighteyebeerco.com
SUMMARY:Zeebo's Beast Feast Pop-Up
DESCRIPTION:Our favorite burger-smashing brothers back for an afternoon of deliciousness. Here until sell-out\, so get here early!
URL:https://brighteyebeerco.com/event-detail/zeebos-beast-feast-pop-up-3/
LOCATION:Bright Eye Beer Co. Taproom\, 50 West Park Ave\, Long Beach\, NY\, 11561\, United States
ATTACH;FMTTYPE=image/png:https://craftpeak-cooler-images.imgix.net/bright-eye-beer-co/logo.png?auto=compress%2Cformat&ixlib=php-3.3.1&s=702ed1eee2c75567292ae947a4c7d906
END:VEVENT
BEGIN:VEVENT
DTSTART;TZID=America/New_York:20250131T200000
DTEND;TZID=America/New_York:20250131T230000
DTSTAMP:20260424T040437
CREATED:20250122T185644Z
LAST-MODIFIED:20250122T202430Z
UID:10000056-1738353600-1738364400@brighteyebeerco.com
SUMMARY:Meadowgrass: An evening of bluegrass revelry
DESCRIPTION:
URL:https://brighteyebeerco.com/event-detail/meadowgrass-a-bluegrass-evening/
LOCATION:Bright Eye Beer Co. Taproom\, 50 West Park Ave\, Long Beach\, NY\, 11561\, United States
CATEGORIES:Live Music
ATTACH;FMTTYPE=image/jpeg:https://craftpeak-cooler-images.imgix.net/bright-eye-beer-co/bluegrass-instruments-happy.jpg?auto=compress%2Cformat&ixlib=php-3.3.1&s=9ed2fee538388320960b6bcf67917b60
END:VEVENT
BEGIN:VEVENT
DTSTART;TZID=America/New_York:20241231T170000
DTEND;TZID=America/New_York:20241231T220000
DTSTAMP:20260424T040437
CREATED:20241212T232119Z
LAST-MODIFIED:20241212T234723Z
UID:10000055-1735664400-1735682400@brighteyebeerco.com
SUMMARY:NYE Dinner with Zeebo's Beast Feast
DESCRIPTION:Zeebo’s Beast Feast with Savvy Food Co. hosting a New Year’s Eve Dinner in our Upstairs space. They’ll be offering a mouth-watering a la carte menu with everything from tuna crudo to dry-aged strip steak\, plus vegetarian dishes. Most importantly\, they’ve also got dessert on the menu. \nReservations encouraged.
URL:https://brighteyebeerco.com/event-detail/nye-dinner-with-zeebos-beast-feast/
LOCATION:Bright Eye Beer Co. Taproom\, 50 West Park Ave\, Long Beach\, NY\, 11561\, United States
CATEGORIES:Food Pop-Up
ATTACH;FMTTYPE=image/jpeg:https://craftpeak-cooler-images.imgix.net/bright-eye-beer-co/Untitled_Artwork.jpg?auto=compress%2Cformat&ixlib=php-3.3.1&s=88b105b45977134b1209e193c430d43e
END:VEVENT
BEGIN:VEVENT
DTSTART;TZID=America/New_York:20241227T200000
DTEND;TZID=America/New_York:20241227T230000
DTSTAMP:20260424T040437
CREATED:20241204T173155Z
LAST-MODIFIED:20241204T182632Z
UID:10000054-1735329600-1735340400@brighteyebeerco.com
SUMMARY:Bobbing on the Surface: A Phish Show
DESCRIPTION:Phish heads! Join us in the taproom on the eve of the band’s annual New Year’s run at MSG\, where members of Noisy Neighbors and Mr. Rooster will join forces for two sets of music honoring Vermont’s beloved quartet. Showtime at 8:00 PM. \nTaboot Taboot!
URL:https://brighteyebeerco.com/event-detail/live-music-phish-show/
LOCATION:Bright Eye Beer Co. Taproom\, 50 West Park Ave\, Long Beach\, NY\, 11561\, United States
CATEGORIES:Live Music
END:VEVENT
BEGIN:VEVENT
DTSTART;TZID=America/New_York:20241228T200000
DTEND;TZID=America/New_York:20241228T230000
DTSTAMP:20260424T040437
CREATED:20241204T172616Z
LAST-MODIFIED:20241204T172616Z
UID:10000053-1735416000-1735426800@brighteyebeerco.com
SUMMARY:Live Music with Dave Ferro
DESCRIPTION:
URL:https://brighteyebeerco.com/event-detail/live-music-with-dave-ferro-2/
LOCATION:Bright Eye Beer Co. Taproom\, 50 West Park Ave\, Long Beach\, NY\, 11561\, United States
CATEGORIES:Live Music
END:VEVENT
BEGIN:VEVENT
DTSTART;TZID=America/New_York:20241227T180000
DTEND;TZID=America/New_York:20241227T210000
DTSTAMP:20260424T040437
CREATED:20241204T172529Z
LAST-MODIFIED:20241204T172529Z
UID:10000052-1735322400-1735333200@brighteyebeerco.com
SUMMARY:Food Pop-up with Zeebo's Beast Feast
DESCRIPTION:
URL:https://brighteyebeerco.com/event-detail/food-pop-up-with-zeebos-beast-feast-2/
LOCATION:Bright Eye Beer Co. Taproom\, 50 West Park Ave\, Long Beach\, NY\, 11561\, United States
CATEGORIES:Food Pop-Up
ATTACH;FMTTYPE=image/png:https://craftpeak-cooler-images.imgix.net/bright-eye-beer-co/zeebos-burger.png?auto=compress%2Cformat&ixlib=php-3.3.1&s=ec9418213a0a6d1482ba0cf90b2cf0f0
END:VEVENT
BEGIN:VEVENT
DTSTART;VALUE=DATE:20241225
DTEND;VALUE=DATE:20241226
DTSTAMP:20260424T040437
CREATED:20241204T172344Z
LAST-MODIFIED:20241204T172344Z
UID:10000050-1735084800-1735171199@brighteyebeerco.com
SUMMARY:Taproom Closed
DESCRIPTION:Merry Christmas!
URL:https://brighteyebeerco.com/event-detail/taproom-closed/
LOCATION:Bright Eye Beer Co. Taproom\, 50 West Park Ave\, Long Beach\, NY\, 11561\, United States
CATEGORIES:Taproom Events
END:VEVENT
BEGIN:VEVENT
DTSTART;VALUE=DATE:20241224
DTEND;VALUE=DATE:20241225
DTSTAMP:20260424T040437
CREATED:20241204T172305Z
LAST-MODIFIED:20241204T172816Z
UID:10000049-1734998400-1735084799@brighteyebeerco.com
SUMMARY:Limited Hours 12:00-4:00 PM
DESCRIPTION:Taproom open 12:00-4:00 PM for all your last-minute Christmas needs – come in for a crowler to-go\, a pint to stay\, or a piece of merch to gift!
URL:https://brighteyebeerco.com/event-detail/limited-hours/
LOCATION:Bright Eye Beer Co. Taproom\, 50 West Park Ave\, Long Beach\, NY\, 11561\, United States
CATEGORIES:Taproom Events
END:VEVENT
BEGIN:VEVENT
DTSTART;TZID=America/New_York:20241223T130000
DTEND;TZID=America/New_York:20241223T220000
DTSTAMP:20260424T040437
CREATED:20241204T171843Z
LAST-MODIFIED:20241204T171843Z
UID:10000048-1734958800-1734991200@brighteyebeerco.com
SUMMARY:Food Pop-up with Zeebo's Beast Feast
DESCRIPTION:Taproom open this Monday from 1:00-10:00 PM. Zeebo’s smash burgers will be hot and ready at 5:00 PM until they sell out.
URL:https://brighteyebeerco.com/event-detail/food-pop-up-with-zeebos-beast-feast/
LOCATION:Bright Eye Beer Co. Taproom\, 50 West Park Ave\, Long Beach\, NY\, 11561\, United States
CATEGORIES:Food Pop-Up,Taproom Events
ATTACH;FMTTYPE=image/png:https://craftpeak-cooler-images.imgix.net/bright-eye-beer-co/zeebos-burger.png?auto=compress%2Cformat&ixlib=php-3.3.1&s=ec9418213a0a6d1482ba0cf90b2cf0f0
END:VEVENT
BEGIN:VEVENT
DTSTART;TZID=America/New_York:20241222T103000
DTEND;TZID=America/New_York:20241222T113000
DTSTAMP:20260424T040437
CREATED:20241204T170455Z
LAST-MODIFIED:20241204T170455Z
UID:10000047-1734863400-1734867000@brighteyebeerco.com
SUMMARY:HIIT and Hops with Molly Paige Fitness
DESCRIPTION:A 45-minute HIIT workout to make you sweat and get you grooving. Bring your own yoga mat. Ticket includes a complimentary drink after class.
URL:https://brighteyebeerco.com/event-detail/hiit-and-hops-with-molly-paige-fitness/
LOCATION:Bright Eye Beer Co. Taproom\, 50 West Park Ave\, Long Beach\, NY\, 11561\, United States
CATEGORIES:Fitness Class
END:VEVENT
BEGIN:VEVENT
DTSTART;TZID=America/New_York:20241221T200000
DTEND;TZID=America/New_York:20241221T230000
DTSTAMP:20260424T040437
CREATED:20241204T170118Z
LAST-MODIFIED:20241211T171300Z
UID:10000046-1734811200-1734822000@brighteyebeerco.com
SUMMARY:Live Music with Mr. Rooster
DESCRIPTION:
URL:https://brighteyebeerco.com/event-detail/live-music-with-mr-rooster/
LOCATION:Bright Eye Beer Co. Taproom\, 50 West Park Ave\, Long Beach\, NY\, 11561\, United States
CATEGORIES:Live Music
ATTACH;FMTTYPE=image/png:https://craftpeak-cooler-images.imgix.net/bright-eye-beer-co/Screen-Shot-2024-12-11-at-11.17.35-AM.png?auto=compress%2Cformat&ixlib=php-3.3.1&s=bd9e5c6e1e921252c682369548e76aa5
END:VEVENT
BEGIN:VEVENT
DTSTART;TZID=America/New_York:20241220T170000
DTEND;TZID=America/New_York:20241220T200000
DTSTAMP:20260424T040437
CREATED:20241204T165927Z
LAST-MODIFIED:20241204T165927Z
UID:10000045-1734714000-1734724800@brighteyebeerco.com
SUMMARY:Food Pop Up with Chef Cava
DESCRIPTION:Chef Cava features a rotating menu depending on fresh seasonal ingredients. Always quality and always delicious. \n5:00 PM til sold out!
URL:https://brighteyebeerco.com/event-detail/food-pop-up-with-chef-cava/
LOCATION:Bright Eye Beer Co. Taproom\, 50 West Park Ave\, Long Beach\, NY\, 11561\, United States
CATEGORIES:Food Pop-Up
ATTACH;FMTTYPE=application/pdf:https://craftpeak-cooler-uploads.s3-accelerate.amazonaws.com/bright-eye-beer-co%2FIMG_7124.pdf
END:VEVENT
BEGIN:VEVENT
DTSTART;TZID=America/New_York:20241217T170000
DTEND;TZID=America/New_York:20241217T210000
DTSTAMP:20260424T040437
CREATED:20241204T164643Z
LAST-MODIFIED:20241204T165041Z
UID:10000044-1734454800-1734469200@brighteyebeerco.com
SUMMARY:Holiday Makers Market
DESCRIPTION:This year’s Holiday Makers Market is a one-night event showcasing local makers and designers. You’ll find one-of-a-kind\, handcrafted gifts and personally curated items and you’ll have the opportunity to meet some incredible and creative entrepreneurs. \nThe Holiday Makers Market will take place in our Upstairs space – which means no pets\, sorry! We’ll have the upstairs bar open for all the thirsty shoppers. Settle in downstairs with a pint or a burger from Zeebo’s Beast Feast and enjoy live music with Fernandito Ferrer.
URL:https://brighteyebeerco.com/event-detail/holiday-makers-market/
LOCATION:Bright Eye Beer Co. Taproom\, 50 West Park Ave\, Long Beach\, NY\, 11561\, United States
CATEGORIES:Food Pop-Up,Live Music,Taproom Events
ATTACH;FMTTYPE=application/pdf:https://craftpeak-cooler-uploads.s3-accelerate.amazonaws.com/bright-eye-beer-co/Christmas-Market-2024.pdf
END:VEVENT
BEGIN:VEVENT
DTSTART;TZID=America/New_York:20241213T200000
DTEND;TZID=America/New_York:20241213T230000
DTSTAMP:20260424T040437
CREATED:20241204T163829Z
LAST-MODIFIED:20241211T161601Z
UID:10000043-1734120000-1734130800@brighteyebeerco.com
SUMMARY:Ugly Sweater Holiday Party
DESCRIPTION:Wear your classic ugly Christmas sweater or make it silly\, goofy\, or creative! Live music with the Trick Bag Trio\, plus a specialty craft cocktail available! We’ll be giving away cookies from BAKED by the Ocean for an added sweet treat.
URL:https://brighteyebeerco.com/event-detail/ugly-sweater-holiday-party/
LOCATION:Bright Eye Beer Co. Taproom\, 50 West Park Ave\, Long Beach\, NY\, 11561\, United States
CATEGORIES:Live Music,Taproom Events
ATTACH;FMTTYPE=image/png:https://craftpeak-cooler-images.imgix.net/bright-eye-beer-co/ugly-sweater-party-1.png?auto=compress%2Cformat&ixlib=php-3.3.1&s=a3e25c1e1e4fd8624c7fa1e108387236
END:VEVENT
BEGIN:VEVENT
DTSTART;TZID=America/New_York:20241208T110000
DTEND;TZID=America/New_York:20241208T120000
DTSTAMP:20260424T040437
CREATED:20241204T162741Z
LAST-MODIFIED:20241204T170733Z
UID:10000042-1733655600-1733659200@brighteyebeerco.com
SUMMARY:Pints & Poses with Sam
DESCRIPTION:Join Sam for a beginner-friendly yoga class Upstairs at Bright Eye. With an emphasis on slow movement\, breathwork\, and stretching\, this practice aims to build overall self-awareness. \nTicket includes a complimentary beverage of your choice after class.
URL:https://brighteyebeerco.com/event-detail/pints-poses-with-sam-2/
LOCATION:Bright Eye Beer Co. Taproom\, 50 West Park Ave\, Long Beach\, NY\, 11561\, United States
CATEGORIES:Fitness Class
ATTACH;FMTTYPE=image/png:https://craftpeak-cooler-images.imgix.net/bright-eye-beer-co/Screen-Shot-2024-10-10-at-2.40.20-PM.png?auto=compress%2Cformat&ixlib=php-3.3.1&s=69839bfbab2e687e71a9fcc3810aef57
END:VEVENT
BEGIN:VEVENT
DTSTART;TZID=America/New_York:20241207T200000
DTEND;TZID=America/New_York:20241207T230000
DTSTAMP:20260424T040437
CREATED:20241204T162644Z
LAST-MODIFIED:20241204T162644Z
UID:10000041-1733601600-1733612400@brighteyebeerco.com
SUMMARY:Live Music with Eddie Burbes & Crew
DESCRIPTION:
URL:https://brighteyebeerco.com/event-detail/live-music-with-eddie-burbes-crew/
LOCATION:Bright Eye Beer Co. Taproom\, 50 West Park Ave\, Long Beach\, NY\, 11561\, United States
CATEGORIES:Live Music
END:VEVENT
BEGIN:VEVENT
DTSTART;TZID=America/New_York:20241206T200000
DTEND;TZID=America/New_York:20241206T230000
DTSTAMP:20260424T040437
CREATED:20241204T162553Z
LAST-MODIFIED:20241204T162553Z
UID:10000040-1733515200-1733526000@brighteyebeerco.com
SUMMARY:Live Music with Too Fat Guys
DESCRIPTION:
URL:https://brighteyebeerco.com/event-detail/live-music-with-too-fat-guys/
LOCATION:Bright Eye Beer Co. Taproom\, 50 West Park Ave\, Long Beach\, NY\, 11561\, United States
CATEGORIES:Live Music
END:VEVENT
END:VCALENDAR