BEGIN:VCALENDAR
VERSION:2.0
PRODID:-//Bright Eye Beer Co - ECPv6.15.12.2//NONSGML v1.0//EN
CALSCALE:GREGORIAN
METHOD:PUBLISH
X-WR-CALNAME:Bright Eye Beer Co
X-ORIGINAL-URL:https://brighteyebeerco.com
X-WR-CALDESC:Events for Bright Eye Beer Co
REFRESH-INTERVAL;VALUE=DURATION:PT1H
X-Robots-Tag:noindex
X-PUBLISHED-TTL:PT1H
BEGIN:VTIMEZONE
TZID:America/New_York
BEGIN:DAYLIGHT
TZOFFSETFROM:-0500
TZOFFSETTO:-0400
TZNAME:EDT
DTSTART:20240310T070000
END:DAYLIGHT
BEGIN:STANDARD
TZOFFSETFROM:-0400
TZOFFSETTO:-0500
TZNAME:EST
DTSTART:20241103T060000
END:STANDARD
BEGIN:DAYLIGHT
TZOFFSETFROM:-0500
TZOFFSETTO:-0400
TZNAME:EDT
DTSTART:20250309T070000
END:DAYLIGHT
BEGIN:STANDARD
TZOFFSETFROM:-0400
TZOFFSETTO:-0500
TZNAME:EST
DTSTART:20251102T060000
END:STANDARD
BEGIN:DAYLIGHT
TZOFFSETFROM:-0500
TZOFFSETTO:-0400
TZNAME:EDT
DTSTART:20260308T070000
END:DAYLIGHT
BEGIN:STANDARD
TZOFFSETFROM:-0400
TZOFFSETTO:-0500
TZNAME:EST
DTSTART:20261101T060000
END:STANDARD
END:VTIMEZONE
BEGIN:VEVENT
DTSTART;TZID=America/New_York:20251016T190000
DTEND;TZID=America/New_York:20251016T210000
DTSTAMP:20260421T122629
CREATED:20251009T165807Z
LAST-MODIFIED:20251009T165807Z
UID:10000522-1760641200-1760648400@brighteyebeerco.com
SUMMARY:Crowler Craft Night with Mural Minds
DESCRIPTION:Design your own crowler can using image transfer techniques. \nEach participant will go home with a custom crowler filled with your choice of Bright Eye beer and branded glass\, plus a MuralMinds koozie and a moment by moment Mindfulness Resource to keep the creativity + calm going.
URL:https://brighteyebeerco.com/event-detail/crowler-craft-night-with-mural-minds/
LOCATION:Bright Eye Beer Co. Taproom\, 50 West Park Ave\, Long Beach\, NY\, 11561\, United States
CATEGORIES:Taproom Events
END:VEVENT
BEGIN:VEVENT
DTSTART;TZID=America/New_York:20251026T130000
DTEND;TZID=America/New_York:20251026T180000
DTSTAMP:20260421T122629
CREATED:20250922T152522Z
LAST-MODIFIED:20250922T152802Z
UID:10000521-1761483600-1761501600@brighteyebeerco.com
SUMMARY:Sea City Vintage Market
DESCRIPTION:Shop from 20+ vintage dealers\, plus aura portraits by Inner Light Aura\, all thoughtfully curated by Sea City Vintage. The event will be held in our Upstairs space\, free and open to the public. \nTicketed early bird: 12:00-1:00pm
URL:https://brighteyebeerco.com/event-detail/sea-city-vintage-market-2/
LOCATION:Bright Eye Beer Co. Taproom\, 50 West Park Ave\, Long Beach\, NY\, 11561\, United States
CATEGORIES:Taproom Events,Vendor Pop-Up
ATTACH;FMTTYPE=image/jpeg:https://craftpeak-cooler-images.imgix.net/bright-eye-beer-co/IMG_7757.jpg?auto=compress%2Cformat&ixlib=php-3.3.1&s=fdb2777d97b61c22ce67ec82164af30a
END:VEVENT
BEGIN:VEVENT
DTSTART;TZID=America/New_York:20251024T190000
DTEND;TZID=America/New_York:20251024T220000
DTSTAMP:20260421T122629
CREATED:20250922T152027Z
LAST-MODIFIED:20250922T152027Z
UID:10000520-1761332400-1761343200@brighteyebeerco.com
SUMMARY:Sam Goorland
DESCRIPTION:
URL:https://brighteyebeerco.com/event-detail/sam-goorland/
LOCATION:Bright Eye Beer Co. Taproom\, 50 West Park Ave\, Long Beach\, NY\, 11561\, United States
CATEGORIES:Live Music
END:VEVENT
BEGIN:VEVENT
DTSTART;TZID=America/New_York:20251023T200000
DTEND;TZID=America/New_York:20251023T230000
DTSTAMP:20260421T122629
CREATED:20250922T151620Z
LAST-MODIFIED:20250922T151917Z
UID:10000519-1761249600-1761260400@brighteyebeerco.com
SUMMARY:Squeaky Feet
DESCRIPTION:Held Upstairs at Bright Eye as part of our Upstairs Concert Series. \nSqueaky Feet is redefining the prog-rock and jam band experience with their electrifying blend of progressive rock\, jazz fusion\, and dance grooves. Come get sqeaky with us! \nDoors open at 7:00 PM. Show starts at 8:00 PM. Downstairs taproom will remain open to the public.
URL:https://brighteyebeerco.com/event-detail/squeaky-feet/
LOCATION:Bright Eye Beer Co. Taproom\, 50 West Park Ave\, Long Beach\, NY\, 11561\, United States
CATEGORIES:Live Music
ATTACH;FMTTYPE=image/png:https://craftpeak-cooler-images.imgix.net/bright-eye-beer-co/Half-Step-1350-x-1080-px.png?auto=compress%2Cformat&ixlib=php-3.3.1&s=858cecd63edf032cbf98de6f64c849be
END:VEVENT
BEGIN:VEVENT
DTSTART;TZID=America/New_York:20251019T110000
DTEND;TZID=America/New_York:20251019T120000
DTSTAMP:20260421T122629
CREATED:20250922T150913Z
LAST-MODIFIED:20250922T150913Z
UID:10000518-1760871600-1760875200@brighteyebeerco.com
SUMMARY:Pints & Poses
DESCRIPTION:A beginner-friendly slow-flow yoga practice with Samantha Wondsel of Point Lookout Yoga Club. Enjoy a complimentary beverage after class.
URL:https://brighteyebeerco.com/event-detail/pints-poses-6/
LOCATION:Bright Eye Beer Co. Taproom\, 50 West Park Ave\, Long Beach\, NY\, 11561\, United States
CATEGORIES:Fitness Class
END:VEVENT
BEGIN:VEVENT
DTSTART;TZID=America/New_York:20251017T190000
DTEND;TZID=America/New_York:20251017T220000
DTSTAMP:20260421T122629
CREATED:20250922T150511Z
LAST-MODIFIED:20250922T150511Z
UID:10000517-1760727600-1760738400@brighteyebeerco.com
SUMMARY:KATH
DESCRIPTION:
URL:https://brighteyebeerco.com/event-detail/kath-2/
LOCATION:Bright Eye Beer Co. Taproom\, 50 West Park Ave\, Long Beach\, NY\, 11561\, United States
CATEGORIES:Live Music
END:VEVENT
BEGIN:VEVENT
DTSTART;TZID=America/New_York:20251010T190000
DTEND;TZID=America/New_York:20251010T220000
DTSTAMP:20260421T122629
CREATED:20250922T150443Z
LAST-MODIFIED:20250922T150443Z
UID:10000516-1760122800-1760133600@brighteyebeerco.com
SUMMARY:Change at Jamaica
DESCRIPTION:
URL:https://brighteyebeerco.com/event-detail/change-at-jamaica/
LOCATION:Bright Eye Beer Co. Taproom\, 50 West Park Ave\, Long Beach\, NY\, 11561\, United States
CATEGORIES:Live Music
END:VEVENT
BEGIN:VEVENT
DTSTART;TZID=America/New_York:20251007T190000
DTEND;TZID=America/New_York:20251007T213000
DTSTAMP:20260421T122629
CREATED:20250922T150402Z
LAST-MODIFIED:20250922T150402Z
UID:10000515-1759863600-1759872600@brighteyebeerco.com
SUMMARY:Trivia Tuesday
DESCRIPTION:Six rounds of general knowledge trivia with Lorenz and Jordan. Prizes for first and second place\, with chances to win beers and crowlers in between rounds! Teams of 2-6 people\, free to play.
URL:https://brighteyebeerco.com/event-detail/trivia-tuesday-5/
LOCATION:Bright Eye Beer Co. Taproom\, 50 West Park Ave\, Long Beach\, NY\, 11561\, United States
CATEGORIES:Taproom Events
END:VEVENT
BEGIN:VEVENT
DTSTART;TZID=America/New_York:20251005T120000
DTEND;TZID=America/New_York:20251005T210000
DTSTAMP:20260421T122629
CREATED:20250922T150230Z
LAST-MODIFIED:20250922T153155Z
UID:10000514-1759665600-1759698000@brighteyebeerco.com
SUMMARY:Fright Eye Fall Fest
DESCRIPTION:A day of fall beers\, good food\, and general merriment! Our Fourth Annual Fright Eye Fall Fest will include a brand new fall beer release\, food specials from Zeebo’s\, specialty fall cocktails\, and cornhole on the front porch. \nKid’s donut on a string will begin promptly at 12:00pm. \nGino’s pie-eating contest will begin at 3:00pm. Signup required only for pie eating contest – DM us on Instagram or call the taproom to register!
URL:https://brighteyebeerco.com/event-detail/fright-eye-fall-fest-2/
LOCATION:Bright Eye Beer Co. Taproom\, 50 West Park Ave\, Long Beach\, NY\, 11561\, United States
CATEGORIES:Food Pop-Up,Taproom Events
ATTACH;FMTTYPE=image/png:https://craftpeak-cooler-images.imgix.net/bright-eye-beer-co/Orange-and-Maroon-Fall-Festival-Pumpkin-Promotional-Event-Poster-1350-x-1080-px-1.png?auto=compress%2Cformat&ixlib=php-3.3.1&s=907b7b92782382998b44920a6e19e980
END:VEVENT
BEGIN:VEVENT
DTSTART;TZID=America/New_York:20251004T190000
DTEND;TZID=America/New_York:20251004T220000
DTSTAMP:20260421T122629
CREATED:20250922T144544Z
LAST-MODIFIED:20250922T144544Z
UID:10000513-1759604400-1759615200@brighteyebeerco.com
SUMMARY:Brooke & Jackson Unplugged
DESCRIPTION:
URL:https://brighteyebeerco.com/event-detail/brooke-jackson-unplugged-2/
LOCATION:Bright Eye Beer Co. Taproom\, 50 West Park Ave\, Long Beach\, NY\, 11561\, United States
CATEGORIES:Live Music
END:VEVENT
BEGIN:VEVENT
DTSTART;TZID=America/New_York:20251003T190000
DTEND;TZID=America/New_York:20251003T220000
DTSTAMP:20260421T122629
CREATED:20250922T144503Z
LAST-MODIFIED:20250922T144503Z
UID:10000512-1759518000-1759528800@brighteyebeerco.com
SUMMARY:Will Anguilo
DESCRIPTION:
URL:https://brighteyebeerco.com/event-detail/will-anguilo/
LOCATION:Bright Eye Beer Co. Taproom\, 50 West Park Ave\, Long Beach\, NY\, 11561\, United States
CATEGORIES:Live Music
END:VEVENT
BEGIN:VEVENT
DTSTART;TZID=America/New_York:20250930T190000
DTEND;TZID=America/New_York:20250930T203000
DTSTAMP:20260421T122629
CREATED:20250922T144406Z
LAST-MODIFIED:20250922T144406Z
UID:10000511-1759258800-1759264200@brighteyebeerco.com
SUMMARY:Calligraphy & Pumpkin Lettering for Beginners
DESCRIPTION:In this workshop\, you’ll be learning an introduction to modern calligraphy with a pointed dip pen and ink. Class includes 1.5 hours of instruction and demonstration\, a beginner’s calligraphy kit\, and all materials to write on. Also included will be a beverage of your choice!
URL:https://brighteyebeerco.com/event-detail/calligraphy-pumpkin-lettering-for-beginners/
LOCATION:Bright Eye Beer Co. Taproom\, 50 West Park Ave\, Long Beach\, NY\, 11561\, United States
CATEGORIES:Taproom Events
END:VEVENT
BEGIN:VEVENT
DTSTART;TZID=America/New_York:20250927T130000
DTEND;TZID=America/New_York:20250927T183000
DTSTAMP:20260421T122629
CREATED:20250922T143741Z
LAST-MODIFIED:20250922T143741Z
UID:10000510-1758978000-1758997800@brighteyebeerco.com
SUMMARY:Playing in the Pubs
DESCRIPTION:A fundraising event for the Kiwanis Club of Long Beach. The event will showcase six different local bands throughout the day\, plus raffle prizes. $10 admission \n*This event will take place in our Upstairs space. The main taproom downstairs will remain open to the public.
URL:https://brighteyebeerco.com/event-detail/playing-in-the-pubs/
LOCATION:Bright Eye Beer Co. Taproom\, 50 West Park Ave\, Long Beach\, NY\, 11561\, United States
CATEGORIES:Live Music
END:VEVENT
BEGIN:VEVENT
DTSTART;TZID=America/New_York:20250926T190000
DTEND;TZID=America/New_York:20250926T220000
DTSTAMP:20260421T122629
CREATED:20250902T175013Z
LAST-MODIFIED:20250902T175013Z
UID:10000509-1758913200-1758924000@brighteyebeerco.com
SUMMARY:Nolan Lunsford
DESCRIPTION:
URL:https://brighteyebeerco.com/event-detail/nolan-lunsford/
LOCATION:Bright Eye Beer Co. Taproom\, 50 West Park Ave\, Long Beach\, NY\, 11561\, United States
CATEGORIES:Live Music
END:VEVENT
BEGIN:VEVENT
DTSTART;TZID=America/New_York:20250927T200000
DTEND;TZID=America/New_York:20250927T230000
DTSTAMP:20260421T122629
CREATED:20250902T174606Z
LAST-MODIFIED:20250902T174606Z
UID:10000508-1759003200-1759014000@brighteyebeerco.com
SUMMARY:Red Panda
DESCRIPTION:
URL:https://brighteyebeerco.com/event-detail/red-panda/
LOCATION:Bright Eye Beer Co. Taproom\, 50 West Park Ave\, Long Beach\, NY\, 11561\, United States
CATEGORIES:Live Music
END:VEVENT
BEGIN:VEVENT
DTSTART;TZID=America/New_York:20250912T200000
DTEND;TZID=America/New_York:20250912T230000
DTSTAMP:20260421T122629
CREATED:20250902T174227Z
LAST-MODIFIED:20250902T174227Z
UID:10000507-1757707200-1757718000@brighteyebeerco.com
SUMMARY:Quarter Roy
DESCRIPTION:
URL:https://brighteyebeerco.com/event-detail/quarter-roy-2/
LOCATION:Bright Eye Beer Co. Taproom\, 50 West Park Ave\, Long Beach\, NY\, 11561\, United States
CATEGORIES:Live Music
END:VEVENT
BEGIN:VEVENT
DTSTART;TZID=America/New_York:20250906T162000
DTEND;TZID=America/New_York:20250906T190000
DTSTAMP:20260421T122629
CREATED:20250902T174056Z
LAST-MODIFIED:20250902T174056Z
UID:10000506-1757175600-1757185200@brighteyebeerco.com
SUMMARY:IRIEspect Michele O'neill Afterparty
DESCRIPTION:
URL:https://brighteyebeerco.com/event-detail/iriespect-michele-oneill-afterparty/
LOCATION:Bright Eye Beer Co. Taproom\, 50 West Park Ave\, Long Beach\, NY\, 11561\, United States
CATEGORIES:Live Music
ATTACH;FMTTYPE=image/png:https://craftpeak-cooler-images.imgix.net/bright-eye-beer-co/Iriespect-Levy-LOGO-W-Images-RGB-Simple-Layers-D.png?auto=compress%2Cformat&ixlib=php-3.3.1&s=f4fe4f3f07fb7504db3e195abe10f39c
END:VEVENT
BEGIN:VEVENT
DTSTART;TZID=America/New_York:20250810T120000
DTEND;TZID=America/New_York:20250810T150000
DTSTAMP:20260421T122629
CREATED:20250811T001232Z
LAST-MODIFIED:20250811T001232Z
UID:10000505-1754827200-1754838000@brighteyebeerco.com
SUMMARY:Brunch with Zeebo's
DESCRIPTION:Limited breakfast menu with Zeebo’s.
URL:https://brighteyebeerco.com/event-detail/brunch-with-zeebos/
LOCATION:Bright Eye Beer Co. Taproom\, 50 West Park Ave\, Long Beach\, NY\, 11561\, United States
CATEGORIES:Food Pop-Up
END:VEVENT
BEGIN:VEVENT
DTSTART;TZID=America/New_York:20250801T200000
DTEND;TZID=America/New_York:20250801T230000
DTSTAMP:20260421T122629
CREATED:20250811T001042Z
LAST-MODIFIED:20250811T001042Z
UID:10000504-1754078400-1754089200@brighteyebeerco.com
SUMMARY:Too Fat Guys
DESCRIPTION:Live music with Too Fat Guys
URL:https://brighteyebeerco.com/event-detail/too-fat-guys-2/
LOCATION:Bright Eye Beer Co. Taproom\, 50 West Park Ave\, Long Beach\, NY\, 11561\, United States
CATEGORIES:Live Music
END:VEVENT
BEGIN:VEVENT
DTSTART;TZID=America/New_York:20250803T103000
DTEND;TZID=America/New_York:20250803T113000
DTSTAMP:20260421T122629
CREATED:20250811T000853Z
LAST-MODIFIED:20250811T000853Z
UID:10000503-1754217000-1754220600@brighteyebeerco.com
SUMMARY:Pilates & Pints
DESCRIPTION:A pilates class in our Upstairs space. Jen with Pilates by the Ocean will be hosting an open-level class utilizing the Magic Circle. Follow it up with a complimentary pint in our taproom!
URL:https://brighteyebeerco.com/event-detail/pilates-pints-3/
LOCATION:Bright Eye Beer Co. Taproom\, 50 West Park Ave\, Long Beach\, NY\, 11561\, United States
CATEGORIES:Fitness Class
END:VEVENT
BEGIN:VEVENT
DTSTART;TZID=America/New_York:20250805T190000
DTEND;TZID=America/New_York:20250805T213000
DTSTAMP:20260421T122629
CREATED:20250811T000809Z
LAST-MODIFIED:20250811T000809Z
UID:10000502-1754420400-1754429400@brighteyebeerco.com
SUMMARY:Trivia Tuesday
DESCRIPTION:Six rounds of general knowledge trivia with Lorenz and Jordan. Prizes for first and second place\, with chances to win beers and crowlers in between rounds! Teams of 2-6 people\, free to play.
URL:https://brighteyebeerco.com/event-detail/trivia-tuesday-4/
LOCATION:Bright Eye Beer Co. Taproom\, 50 West Park Ave\, Long Beach\, NY\, 11561\, United States
CATEGORIES:Taproom Events
END:VEVENT
BEGIN:VEVENT
DTSTART;TZID=America/New_York:20250807T190000
DTEND;TZID=America/New_York:20250807T220000
DTSTAMP:20260421T122629
CREATED:20250811T000716Z
LAST-MODIFIED:20250811T000716Z
UID:10000501-1754593200-1754604000@brighteyebeerco.com
SUMMARY:Tom Bauer
DESCRIPTION:Live music with Tom Bauer.
URL:https://brighteyebeerco.com/event-detail/tom-bauer-2/
LOCATION:Bright Eye Beer Co. Taproom\, 50 West Park Ave\, Long Beach\, NY\, 11561\, United States
CATEGORIES:Live Music
END:VEVENT
BEGIN:VEVENT
DTSTART;TZID=America/New_York:20250829T190000
DTEND;TZID=America/New_York:20250829T230000
DTSTAMP:20260421T122629
CREATED:20250811T000459Z
LAST-MODIFIED:20250811T000459Z
UID:10000500-1756494000-1756508400@brighteyebeerco.com
SUMMARY:Crime In Stereo
DESCRIPTION:Upstairs Concert Series: Crime in Stereo. \nTicketed entry. Downstairs will remain open to the public! \nSOLD OUT
URL:https://brighteyebeerco.com/event-detail/crime-in-stereo/
LOCATION:Bright Eye Beer Co. Taproom\, 50 West Park Ave\, Long Beach\, NY\, 11561\, United States
CATEGORIES:Live Music
END:VEVENT
BEGIN:VEVENT
DTSTART;TZID=America/New_York:20250828T190000
DTEND;TZID=America/New_York:20250828T210000
DTSTAMP:20260421T122629
CREATED:20250810T235941Z
LAST-MODIFIED:20250813T155501Z
UID:10000499-1756407600-1756414800@brighteyebeerco.com
SUMMARY:MuralMinds Art Workshop
DESCRIPTION:Mural Minds is back for another workshop in our Upstairs space. Design your own crowler label using image transfer techniques. \nEach participant will go home with a custom crowler filled with your choice of beer\, a Bright Eye branded glass\, a MuralMinds koozie\, and a Moment by Moment mindfulness resource. \nTo register\, contact Leigh Crane on Instagram @momentby.m.o.m.e.n.t
URL:https://brighteyebeerco.com/event-detail/mural-minds-art-workshop/
LOCATION:Bright Eye Beer Co. Taproom\, 50 West Park Ave\, Long Beach\, NY\, 11561\, United States
CATEGORIES:Taproom Events
END:VEVENT
BEGIN:VEVENT
DTSTART;TZID=America/New_York:20250823T200000
DTEND;TZID=America/New_York:20250823T230000
DTSTAMP:20260421T122629
CREATED:20250810T235613Z
LAST-MODIFIED:20250810T235613Z
UID:10000498-1755979200-1755990000@brighteyebeerco.com
SUMMARY:Ape Theory
DESCRIPTION:Live music with Ape Theory\, an original jam and progressive rock band.
URL:https://brighteyebeerco.com/event-detail/ape-theory/
LOCATION:Bright Eye Beer Co. Taproom\, 50 West Park Ave\, Long Beach\, NY\, 11561\, United States
CATEGORIES:Live Music
END:VEVENT
BEGIN:VEVENT
DTSTART;TZID=America/New_York:20250822T200000
DTEND;TZID=America/New_York:20250822T230000
DTSTAMP:20260421T122629
CREATED:20250810T235406Z
LAST-MODIFIED:20250810T235406Z
UID:10000497-1755892800-1755903600@brighteyebeerco.com
SUMMARY:Oldheads
DESCRIPTION:Live music with Oldheads
URL:https://brighteyebeerco.com/event-detail/oldheads/
LOCATION:Bright Eye Beer Co. Taproom\, 50 West Park Ave\, Long Beach\, NY\, 11561\, United States
CATEGORIES:Live Music
END:VEVENT
BEGIN:VEVENT
DTSTART;TZID=America/New_York:20250827T173000
DTEND;TZID=America/New_York:20250827T213000
DTSTAMP:20260421T122629
CREATED:20250810T235059Z
LAST-MODIFIED:20250810T235059Z
UID:10000495-1756315800-1756330200@brighteyebeerco.com
SUMMARY:Zeebo's Burgers
DESCRIPTION:Smash burgers + specials.
URL:https://brighteyebeerco.com/event-detail/zeebos-burgers-24/
LOCATION:Bright Eye Beer Co. Taproom\, 50 West Park Ave\, Long Beach\, NY\, 11561\, United States
CATEGORIES:Food Pop-Up
END:VEVENT
BEGIN:VEVENT
DTSTART;TZID=America/New_York:20250822T173000
DTEND;TZID=America/New_York:20250822T213000
DTSTAMP:20260421T122629
CREATED:20250810T235037Z
LAST-MODIFIED:20250810T235037Z
UID:10000494-1755883800-1755898200@brighteyebeerco.com
SUMMARY:Zeebo's Burgers
DESCRIPTION:Smash burgers + specials.
URL:https://brighteyebeerco.com/event-detail/zeebos-burgers-23/
LOCATION:Bright Eye Beer Co. Taproom\, 50 West Park Ave\, Long Beach\, NY\, 11561\, United States
CATEGORIES:Food Pop-Up
END:VEVENT
BEGIN:VEVENT
DTSTART;TZID=America/New_York:20250821T173000
DTEND;TZID=America/New_York:20250821T213000
DTSTAMP:20260421T122629
CREATED:20250810T235006Z
LAST-MODIFIED:20250810T235018Z
UID:10000493-1755797400-1755811800@brighteyebeerco.com
SUMMARY:Zeebo's Burgers
DESCRIPTION:Smash burgers + specials.
URL:https://brighteyebeerco.com/event-detail/zeebos-burgers-22/
LOCATION:Bright Eye Beer Co. Taproom\, 50 West Park Ave\, Long Beach\, NY\, 11561\, United States
CATEGORIES:Food Pop-Up
END:VEVENT
BEGIN:VEVENT
DTSTART;TZID=America/New_York:20250820T173000
DTEND;TZID=America/New_York:20250820T213000
DTSTAMP:20260421T122629
CREATED:20250810T234941Z
LAST-MODIFIED:20250810T234941Z
UID:10000492-1755711000-1755725400@brighteyebeerco.com
SUMMARY:Zeebo's Burgers
DESCRIPTION:Smash burgers + specials.
URL:https://brighteyebeerco.com/event-detail/zeebos-burgers-21/
LOCATION:Bright Eye Beer Co. Taproom\, 50 West Park Ave\, Long Beach\, NY\, 11561\, United States
CATEGORIES:Food Pop-Up
END:VEVENT
END:VCALENDAR