BEGIN:VCALENDAR
VERSION:2.0
PRODID:-//Bright Eye Beer Co - ECPv6.15.12.2//NONSGML v1.0//EN
CALSCALE:GREGORIAN
METHOD:PUBLISH
X-ORIGINAL-URL:https://brighteyebeerco.com
X-WR-CALDESC:Events for Bright Eye Beer Co
REFRESH-INTERVAL;VALUE=DURATION:PT1H
X-Robots-Tag:noindex
X-PUBLISHED-TTL:PT1H
BEGIN:VTIMEZONE
TZID:America/New_York
BEGIN:DAYLIGHT
TZOFFSETFROM:-0500
TZOFFSETTO:-0400
TZNAME:EDT
DTSTART:20250309T070000
END:DAYLIGHT
BEGIN:STANDARD
TZOFFSETFROM:-0400
TZOFFSETTO:-0500
TZNAME:EST
DTSTART:20251102T060000
END:STANDARD
BEGIN:DAYLIGHT
TZOFFSETFROM:-0500
TZOFFSETTO:-0400
TZNAME:EDT
DTSTART:20260308T070000
END:DAYLIGHT
BEGIN:STANDARD
TZOFFSETFROM:-0400
TZOFFSETTO:-0500
TZNAME:EST
DTSTART:20261101T060000
END:STANDARD
BEGIN:DAYLIGHT
TZOFFSETFROM:-0500
TZOFFSETTO:-0400
TZNAME:EDT
DTSTART:20270314T070000
END:DAYLIGHT
BEGIN:STANDARD
TZOFFSETFROM:-0400
TZOFFSETTO:-0500
TZNAME:EST
DTSTART:20271107T060000
END:STANDARD
BEGIN:DAYLIGHT
TZOFFSETFROM:-0500
TZOFFSETTO:-0400
TZNAME:EDT
DTSTART:20280312T070000
END:DAYLIGHT
BEGIN:STANDARD
TZOFFSETFROM:-0400
TZOFFSETTO:-0500
TZNAME:EST
DTSTART:20281105T060000
END:STANDARD
BEGIN:DAYLIGHT
TZOFFSETFROM:-0500
TZOFFSETTO:-0400
TZNAME:EDT
DTSTART:20290311T070000
END:DAYLIGHT
BEGIN:STANDARD
TZOFFSETFROM:-0400
TZOFFSETTO:-0500
TZNAME:EST
DTSTART:20291104T060000
END:STANDARD
BEGIN:DAYLIGHT
TZOFFSETFROM:-0500
TZOFFSETTO:-0400
TZNAME:EDT
DTSTART:20300310T070000
END:DAYLIGHT
BEGIN:STANDARD
TZOFFSETFROM:-0400
TZOFFSETTO:-0500
TZNAME:EST
DTSTART:20301103T060000
END:STANDARD
BEGIN:DAYLIGHT
TZOFFSETFROM:-0500
TZOFFSETTO:-0400
TZNAME:EDT
DTSTART:20310309T070000
END:DAYLIGHT
BEGIN:STANDARD
TZOFFSETFROM:-0400
TZOFFSETTO:-0500
TZNAME:EST
DTSTART:20311102T060000
END:STANDARD
END:VTIMEZONE
BEGIN:VEVENT
DTSTART;TZID=America/New_York:20270811T184500
DTEND;TZID=America/New_York:20270811T194500
DTSTAMP:20260421T175141
CREATED:20250123T152506Z
LAST-MODIFIED:20250123T152506Z
UID:10000198-1818009900-1818013500@brighteyebeerco.com
SUMMARY:Long Beach Run Club
DESCRIPTION:Meet @ 6:45pm\, Run @ 7pm \nWeekly 5k on the boards with the Long Beach Run Club. All are welcome. Discounted beers & prizes for running milestones available for all runners.  Follow @longbeach_runclub on Instagram for updates & other activities.
URL:https://brighteyebeerco.com/event-detail/long-beach-run-club/2027-08-11/
LOCATION:Bright Eye Beer Co. Taproom\, 50 West Park Ave\, Long Beach\, NY\, 11561\, United States
END:VEVENT
BEGIN:VEVENT
DTSTART;TZID=America/New_York:20280322T184500
DTEND;TZID=America/New_York:20280322T194500
DTSTAMP:20260421T175141
CREATED:20250123T152506Z
LAST-MODIFIED:20250123T152506Z
UID:10000230-1837363500-1837367100@brighteyebeerco.com
SUMMARY:Long Beach Run Club
DESCRIPTION:Meet @ 6:45pm\, Run @ 7pm \nWeekly 5k on the boards with the Long Beach Run Club. All are welcome. Discounted beers & prizes for running milestones available for all runners.  Follow @longbeach_runclub on Instagram for updates & other activities.
URL:https://brighteyebeerco.com/event-detail/long-beach-run-club/2028-03-22/
LOCATION:Bright Eye Beer Co. Taproom\, 50 West Park Ave\, Long Beach\, NY\, 11561\, United States
END:VEVENT
BEGIN:VEVENT
DTSTART;TZID=America/New_York:20281101T184500
DTEND;TZID=America/New_York:20281101T194500
DTSTAMP:20260421T175141
CREATED:20250123T152506Z
LAST-MODIFIED:20250123T152506Z
UID:10000262-1856717100-1856720700@brighteyebeerco.com
SUMMARY:Long Beach Run Club
DESCRIPTION:Meet @ 6:45pm\, Run @ 7pm \nWeekly 5k on the boards with the Long Beach Run Club. All are welcome. Discounted beers & prizes for running milestones available for all runners.  Follow @longbeach_runclub on Instagram for updates & other activities.
URL:https://brighteyebeerco.com/event-detail/long-beach-run-club/2028-11-01/
LOCATION:Bright Eye Beer Co. Taproom\, 50 West Park Ave\, Long Beach\, NY\, 11561\, United States
END:VEVENT
BEGIN:VEVENT
DTSTART;TZID=America/New_York:20290613T184500
DTEND;TZID=America/New_York:20290613T194500
DTSTAMP:20260421T175141
CREATED:20250123T152506Z
LAST-MODIFIED:20250123T152506Z
UID:10000294-1876070700-1876074300@brighteyebeerco.com
SUMMARY:Long Beach Run Club
DESCRIPTION:Meet @ 6:45pm\, Run @ 7pm \nWeekly 5k on the boards with the Long Beach Run Club. All are welcome. Discounted beers & prizes for running milestones available for all runners.  Follow @longbeach_runclub on Instagram for updates & other activities.
URL:https://brighteyebeerco.com/event-detail/long-beach-run-club/2029-06-13/
LOCATION:Bright Eye Beer Co. Taproom\, 50 West Park Ave\, Long Beach\, NY\, 11561\, United States
END:VEVENT
BEGIN:VEVENT
DTSTART;TZID=America/New_York:20300123T184500
DTEND;TZID=America/New_York:20300123T194500
DTSTAMP:20260421T175141
CREATED:20250123T152506Z
LAST-MODIFIED:20250123T152506Z
UID:10000326-1895424300-1895427900@brighteyebeerco.com
SUMMARY:Long Beach Run Club
DESCRIPTION:Meet @ 6:45pm\, Run @ 7pm \nWeekly 5k on the boards with the Long Beach Run Club. All are welcome. Discounted beers & prizes for running milestones available for all runners.  Follow @longbeach_runclub on Instagram for updates & other activities.
URL:https://brighteyebeerco.com/event-detail/long-beach-run-club/2030-01-23/
LOCATION:Bright Eye Beer Co. Taproom\, 50 West Park Ave\, Long Beach\, NY\, 11561\, United States
END:VEVENT
BEGIN:VEVENT
DTSTART;TZID=America/New_York:20260805T184500
DTEND;TZID=America/New_York:20260805T194500
DTSTAMP:20260421T175141
CREATED:20250123T152506Z
LAST-MODIFIED:20250123T152506Z
UID:10000145-1785955500-1785959100@brighteyebeerco.com
SUMMARY:Long Beach Run Club
DESCRIPTION:Meet @ 6:45pm\, Run @ 7pm \nWeekly 5k on the boards with the Long Beach Run Club. All are welcome. Discounted beers & prizes for running milestones available for all runners.  Follow @longbeach_runclub on Instagram for updates & other activities.
URL:https://brighteyebeerco.com/event-detail/long-beach-run-club/2026-08-05/
LOCATION:Bright Eye Beer Co. Taproom\, 50 West Park Ave\, Long Beach\, NY\, 11561\, United States
END:VEVENT
BEGIN:VEVENT
DTSTART;TZID=America/New_York:20270317T184500
DTEND;TZID=America/New_York:20270317T194500
DTSTAMP:20260421T175141
CREATED:20250123T152506Z
LAST-MODIFIED:20250123T152506Z
UID:10000177-1805309100-1805312700@brighteyebeerco.com
SUMMARY:Long Beach Run Club
DESCRIPTION:Meet @ 6:45pm\, Run @ 7pm \nWeekly 5k on the boards with the Long Beach Run Club. All are welcome. Discounted beers & prizes for running milestones available for all runners.  Follow @longbeach_runclub on Instagram for updates & other activities.
URL:https://brighteyebeerco.com/event-detail/long-beach-run-club/2027-03-17/
LOCATION:Bright Eye Beer Co. Taproom\, 50 West Park Ave\, Long Beach\, NY\, 11561\, United States
END:VEVENT
BEGIN:VEVENT
DTSTART;TZID=America/New_York:20271027T184500
DTEND;TZID=America/New_York:20271027T194500
DTSTAMP:20260421T175141
CREATED:20250123T152506Z
LAST-MODIFIED:20250123T152506Z
UID:10000209-1824662700-1824666300@brighteyebeerco.com
SUMMARY:Long Beach Run Club
DESCRIPTION:Meet @ 6:45pm\, Run @ 7pm \nWeekly 5k on the boards with the Long Beach Run Club. All are welcome. Discounted beers & prizes for running milestones available for all runners.  Follow @longbeach_runclub on Instagram for updates & other activities.
URL:https://brighteyebeerco.com/event-detail/long-beach-run-club/2027-10-27/
LOCATION:Bright Eye Beer Co. Taproom\, 50 West Park Ave\, Long Beach\, NY\, 11561\, United States
END:VEVENT
BEGIN:VEVENT
DTSTART;TZID=America/New_York:20280607T184500
DTEND;TZID=America/New_York:20280607T194500
DTSTAMP:20260421T175141
CREATED:20250123T152506Z
LAST-MODIFIED:20250123T152506Z
UID:10000241-1844016300-1844019900@brighteyebeerco.com
SUMMARY:Long Beach Run Club
DESCRIPTION:Meet @ 6:45pm\, Run @ 7pm \nWeekly 5k on the boards with the Long Beach Run Club. All are welcome. Discounted beers & prizes for running milestones available for all runners.  Follow @longbeach_runclub on Instagram for updates & other activities.
URL:https://brighteyebeerco.com/event-detail/long-beach-run-club/2028-06-07/
LOCATION:Bright Eye Beer Co. Taproom\, 50 West Park Ave\, Long Beach\, NY\, 11561\, United States
END:VEVENT
BEGIN:VEVENT
DTSTART;TZID=America/New_York:20290117T184500
DTEND;TZID=America/New_York:20290117T194500
DTSTAMP:20260421T175141
CREATED:20250123T152506Z
LAST-MODIFIED:20250123T152506Z
UID:10000273-1863369900-1863373500@brighteyebeerco.com
SUMMARY:Long Beach Run Club
DESCRIPTION:Meet @ 6:45pm\, Run @ 7pm \nWeekly 5k on the boards with the Long Beach Run Club. All are welcome. Discounted beers & prizes for running milestones available for all runners.  Follow @longbeach_runclub on Instagram for updates & other activities.
URL:https://brighteyebeerco.com/event-detail/long-beach-run-club/2029-01-17/
LOCATION:Bright Eye Beer Co. Taproom\, 50 West Park Ave\, Long Beach\, NY\, 11561\, United States
END:VEVENT
BEGIN:VEVENT
DTSTART;TZID=America/New_York:20290829T184500
DTEND;TZID=America/New_York:20290829T194500
DTSTAMP:20260421T175141
CREATED:20250123T152506Z
LAST-MODIFIED:20250123T152506Z
UID:10000305-1882723500-1882727100@brighteyebeerco.com
SUMMARY:Long Beach Run Club
DESCRIPTION:Meet @ 6:45pm\, Run @ 7pm \nWeekly 5k on the boards with the Long Beach Run Club. All are welcome. Discounted beers & prizes for running milestones available for all runners.  Follow @longbeach_runclub on Instagram for updates & other activities.
URL:https://brighteyebeerco.com/event-detail/long-beach-run-club/2029-08-29/
LOCATION:Bright Eye Beer Co. Taproom\, 50 West Park Ave\, Long Beach\, NY\, 11561\, United States
END:VEVENT
BEGIN:VEVENT
DTSTART;TZID=America/New_York:20261021T184500
DTEND;TZID=America/New_York:20261021T194500
DTSTAMP:20260421T175141
CREATED:20250123T152506Z
LAST-MODIFIED:20250123T152506Z
UID:10000156-1792608300-1792611900@brighteyebeerco.com
SUMMARY:Long Beach Run Club
DESCRIPTION:Meet @ 6:45pm\, Run @ 7pm \nWeekly 5k on the boards with the Long Beach Run Club. All are welcome. Discounted beers & prizes for running milestones available for all runners.  Follow @longbeach_runclub on Instagram for updates & other activities.
URL:https://brighteyebeerco.com/event-detail/long-beach-run-club/2026-10-21/
LOCATION:Bright Eye Beer Co. Taproom\, 50 West Park Ave\, Long Beach\, NY\, 11561\, United States
END:VEVENT
BEGIN:VEVENT
DTSTART;TZID=America/New_York:20270602T184500
DTEND;TZID=America/New_York:20270602T194500
DTSTAMP:20260421T175141
CREATED:20250123T152506Z
LAST-MODIFIED:20250123T152506Z
UID:10000188-1811961900-1811965500@brighteyebeerco.com
SUMMARY:Long Beach Run Club
DESCRIPTION:Meet @ 6:45pm\, Run @ 7pm \nWeekly 5k on the boards with the Long Beach Run Club. All are welcome. Discounted beers & prizes for running milestones available for all runners.  Follow @longbeach_runclub on Instagram for updates & other activities.
URL:https://brighteyebeerco.com/event-detail/long-beach-run-club/2027-06-02/
LOCATION:Bright Eye Beer Co. Taproom\, 50 West Park Ave\, Long Beach\, NY\, 11561\, United States
END:VEVENT
BEGIN:VEVENT
DTSTART;TZID=America/New_York:20280112T184500
DTEND;TZID=America/New_York:20280112T194500
DTSTAMP:20260421T175141
CREATED:20250123T152506Z
LAST-MODIFIED:20250123T152506Z
UID:10000220-1831315500-1831319100@brighteyebeerco.com
SUMMARY:Long Beach Run Club
DESCRIPTION:Meet @ 6:45pm\, Run @ 7pm \nWeekly 5k on the boards with the Long Beach Run Club. All are welcome. Discounted beers & prizes for running milestones available for all runners.  Follow @longbeach_runclub on Instagram for updates & other activities.
URL:https://brighteyebeerco.com/event-detail/long-beach-run-club/2028-01-12/
LOCATION:Bright Eye Beer Co. Taproom\, 50 West Park Ave\, Long Beach\, NY\, 11561\, United States
END:VEVENT
BEGIN:VEVENT
DTSTART;TZID=America/New_York:20280823T184500
DTEND;TZID=America/New_York:20280823T194500
DTSTAMP:20260421T175141
CREATED:20250123T152506Z
LAST-MODIFIED:20250123T152506Z
UID:10000252-1850669100-1850672700@brighteyebeerco.com
SUMMARY:Long Beach Run Club
DESCRIPTION:Meet @ 6:45pm\, Run @ 7pm \nWeekly 5k on the boards with the Long Beach Run Club. All are welcome. Discounted beers & prizes for running milestones available for all runners.  Follow @longbeach_runclub on Instagram for updates & other activities.
URL:https://brighteyebeerco.com/event-detail/long-beach-run-club/2028-08-23/
LOCATION:Bright Eye Beer Co. Taproom\, 50 West Park Ave\, Long Beach\, NY\, 11561\, United States
END:VEVENT
BEGIN:VEVENT
DTSTART;TZID=America/New_York:20290404T184500
DTEND;TZID=America/New_York:20290404T194500
DTSTAMP:20260421T175141
CREATED:20250123T152506Z
LAST-MODIFIED:20250123T152506Z
UID:10000284-1870022700-1870026300@brighteyebeerco.com
SUMMARY:Long Beach Run Club
DESCRIPTION:Meet @ 6:45pm\, Run @ 7pm \nWeekly 5k on the boards with the Long Beach Run Club. All are welcome. Discounted beers & prizes for running milestones available for all runners.  Follow @longbeach_runclub on Instagram for updates & other activities.
URL:https://brighteyebeerco.com/event-detail/long-beach-run-club/2029-04-04/
LOCATION:Bright Eye Beer Co. Taproom\, 50 West Park Ave\, Long Beach\, NY\, 11561\, United States
END:VEVENT
BEGIN:VEVENT
DTSTART;TZID=America/New_York:20291114T184500
DTEND;TZID=America/New_York:20291114T194500
DTSTAMP:20260421T175141
CREATED:20250123T152506Z
LAST-MODIFIED:20250123T152506Z
UID:10000316-1889376300-1889379900@brighteyebeerco.com
SUMMARY:Long Beach Run Club
DESCRIPTION:Meet @ 6:45pm\, Run @ 7pm \nWeekly 5k on the boards with the Long Beach Run Club. All are welcome. Discounted beers & prizes for running milestones available for all runners.  Follow @longbeach_runclub on Instagram for updates & other activities.
URL:https://brighteyebeerco.com/event-detail/long-beach-run-club/2029-11-14/
LOCATION:Bright Eye Beer Co. Taproom\, 50 West Park Ave\, Long Beach\, NY\, 11561\, United States
END:VEVENT
BEGIN:VEVENT
DTSTART;TZID=America/New_York:20260527T184500
DTEND;TZID=America/New_York:20260527T194500
DTSTAMP:20260421T175141
CREATED:20250123T152506Z
LAST-MODIFIED:20250123T152506Z
UID:10000135-1779907500-1779911100@brighteyebeerco.com
SUMMARY:Long Beach Run Club
DESCRIPTION:Meet @ 6:45pm\, Run @ 7pm \nWeekly 5k on the boards with the Long Beach Run Club. All are welcome. Discounted beers & prizes for running milestones available for all runners.  Follow @longbeach_runclub on Instagram for updates & other activities.
URL:https://brighteyebeerco.com/event-detail/long-beach-run-club/2026-05-27/
LOCATION:Bright Eye Beer Co. Taproom\, 50 West Park Ave\, Long Beach\, NY\, 11561\, United States
END:VEVENT
BEGIN:VEVENT
DTSTART;TZID=America/New_York:20270106T184500
DTEND;TZID=America/New_York:20270106T194500
DTSTAMP:20260421T175141
CREATED:20250123T152506Z
LAST-MODIFIED:20250123T152506Z
UID:10000167-1799261100-1799264700@brighteyebeerco.com
SUMMARY:Long Beach Run Club
DESCRIPTION:Meet @ 6:45pm\, Run @ 7pm \nWeekly 5k on the boards with the Long Beach Run Club. All are welcome. Discounted beers & prizes for running milestones available for all runners.  Follow @longbeach_runclub on Instagram for updates & other activities.
URL:https://brighteyebeerco.com/event-detail/long-beach-run-club/2027-01-06/
LOCATION:Bright Eye Beer Co. Taproom\, 50 West Park Ave\, Long Beach\, NY\, 11561\, United States
END:VEVENT
BEGIN:VEVENT
DTSTART;TZID=America/New_York:20270818T184500
DTEND;TZID=America/New_York:20270818T194500
DTSTAMP:20260421T175141
CREATED:20250123T152506Z
LAST-MODIFIED:20250123T152506Z
UID:10000199-1818614700-1818618300@brighteyebeerco.com
SUMMARY:Long Beach Run Club
DESCRIPTION:Meet @ 6:45pm\, Run @ 7pm \nWeekly 5k on the boards with the Long Beach Run Club. All are welcome. Discounted beers & prizes for running milestones available for all runners.  Follow @longbeach_runclub on Instagram for updates & other activities.
URL:https://brighteyebeerco.com/event-detail/long-beach-run-club/2027-08-18/
LOCATION:Bright Eye Beer Co. Taproom\, 50 West Park Ave\, Long Beach\, NY\, 11561\, United States
END:VEVENT
BEGIN:VEVENT
DTSTART;TZID=America/New_York:20280329T184500
DTEND;TZID=America/New_York:20280329T194500
DTSTAMP:20260421T175141
CREATED:20250123T152506Z
LAST-MODIFIED:20250123T152506Z
UID:10000231-1837968300-1837971900@brighteyebeerco.com
SUMMARY:Long Beach Run Club
DESCRIPTION:Meet @ 6:45pm\, Run @ 7pm \nWeekly 5k on the boards with the Long Beach Run Club. All are welcome. Discounted beers & prizes for running milestones available for all runners.  Follow @longbeach_runclub on Instagram for updates & other activities.
URL:https://brighteyebeerco.com/event-detail/long-beach-run-club/2028-03-29/
LOCATION:Bright Eye Beer Co. Taproom\, 50 West Park Ave\, Long Beach\, NY\, 11561\, United States
END:VEVENT
BEGIN:VEVENT
DTSTART;TZID=America/New_York:20281108T184500
DTEND;TZID=America/New_York:20281108T194500
DTSTAMP:20260421T175141
CREATED:20250123T152506Z
LAST-MODIFIED:20250123T152506Z
UID:10000263-1857321900-1857325500@brighteyebeerco.com
SUMMARY:Long Beach Run Club
DESCRIPTION:Meet @ 6:45pm\, Run @ 7pm \nWeekly 5k on the boards with the Long Beach Run Club. All are welcome. Discounted beers & prizes for running milestones available for all runners.  Follow @longbeach_runclub on Instagram for updates & other activities.
URL:https://brighteyebeerco.com/event-detail/long-beach-run-club/2028-11-08/
LOCATION:Bright Eye Beer Co. Taproom\, 50 West Park Ave\, Long Beach\, NY\, 11561\, United States
END:VEVENT
BEGIN:VEVENT
DTSTART;TZID=America/New_York:20290620T184500
DTEND;TZID=America/New_York:20290620T194500
DTSTAMP:20260421T175141
CREATED:20250123T152506Z
LAST-MODIFIED:20250123T152506Z
UID:10000295-1876675500-1876679100@brighteyebeerco.com
SUMMARY:Long Beach Run Club
DESCRIPTION:Meet @ 6:45pm\, Run @ 7pm \nWeekly 5k on the boards with the Long Beach Run Club. All are welcome. Discounted beers & prizes for running milestones available for all runners.  Follow @longbeach_runclub on Instagram for updates & other activities.
URL:https://brighteyebeerco.com/event-detail/long-beach-run-club/2029-06-20/
LOCATION:Bright Eye Beer Co. Taproom\, 50 West Park Ave\, Long Beach\, NY\, 11561\, United States
END:VEVENT
BEGIN:VEVENT
DTSTART;TZID=America/New_York:20260812T184500
DTEND;TZID=America/New_York:20260812T194500
DTSTAMP:20260421T175141
CREATED:20250123T152506Z
LAST-MODIFIED:20250123T152506Z
UID:10000146-1786560300-1786563900@brighteyebeerco.com
SUMMARY:Long Beach Run Club
DESCRIPTION:Meet @ 6:45pm\, Run @ 7pm \nWeekly 5k on the boards with the Long Beach Run Club. All are welcome. Discounted beers & prizes for running milestones available for all runners.  Follow @longbeach_runclub on Instagram for updates & other activities.
URL:https://brighteyebeerco.com/event-detail/long-beach-run-club/2026-08-12/
LOCATION:Bright Eye Beer Co. Taproom\, 50 West Park Ave\, Long Beach\, NY\, 11561\, United States
END:VEVENT
BEGIN:VEVENT
DTSTART;TZID=America/New_York:20270324T184500
DTEND;TZID=America/New_York:20270324T194500
DTSTAMP:20260421T175141
CREATED:20250123T152506Z
LAST-MODIFIED:20250123T152506Z
UID:10000178-1805913900-1805917500@brighteyebeerco.com
SUMMARY:Long Beach Run Club
DESCRIPTION:Meet @ 6:45pm\, Run @ 7pm \nWeekly 5k on the boards with the Long Beach Run Club. All are welcome. Discounted beers & prizes for running milestones available for all runners.  Follow @longbeach_runclub on Instagram for updates & other activities.
URL:https://brighteyebeerco.com/event-detail/long-beach-run-club/2027-03-24/
LOCATION:Bright Eye Beer Co. Taproom\, 50 West Park Ave\, Long Beach\, NY\, 11561\, United States
END:VEVENT
BEGIN:VEVENT
DTSTART;TZID=America/New_York:20271103T184500
DTEND;TZID=America/New_York:20271103T194500
DTSTAMP:20260421T175141
CREATED:20250123T152506Z
LAST-MODIFIED:20250123T152506Z
UID:10000210-1825267500-1825271100@brighteyebeerco.com
SUMMARY:Long Beach Run Club
DESCRIPTION:Meet @ 6:45pm\, Run @ 7pm \nWeekly 5k on the boards with the Long Beach Run Club. All are welcome. Discounted beers & prizes for running milestones available for all runners.  Follow @longbeach_runclub on Instagram for updates & other activities.
URL:https://brighteyebeerco.com/event-detail/long-beach-run-club/2027-11-03/
LOCATION:Bright Eye Beer Co. Taproom\, 50 West Park Ave\, Long Beach\, NY\, 11561\, United States
END:VEVENT
BEGIN:VEVENT
DTSTART;TZID=America/New_York:20280614T184500
DTEND;TZID=America/New_York:20280614T194500
DTSTAMP:20260421T175141
CREATED:20250123T152506Z
LAST-MODIFIED:20250123T152506Z
UID:10000242-1844621100-1844624700@brighteyebeerco.com
SUMMARY:Long Beach Run Club
DESCRIPTION:Meet @ 6:45pm\, Run @ 7pm \nWeekly 5k on the boards with the Long Beach Run Club. All are welcome. Discounted beers & prizes for running milestones available for all runners.  Follow @longbeach_runclub on Instagram for updates & other activities.
URL:https://brighteyebeerco.com/event-detail/long-beach-run-club/2028-06-14/
LOCATION:Bright Eye Beer Co. Taproom\, 50 West Park Ave\, Long Beach\, NY\, 11561\, United States
END:VEVENT
BEGIN:VEVENT
DTSTART;TZID=America/New_York:20290124T184500
DTEND;TZID=America/New_York:20290124T194500
DTSTAMP:20260421T175141
CREATED:20250123T152506Z
LAST-MODIFIED:20250123T152506Z
UID:10000274-1863974700-1863978300@brighteyebeerco.com
SUMMARY:Long Beach Run Club
DESCRIPTION:Meet @ 6:45pm\, Run @ 7pm \nWeekly 5k on the boards with the Long Beach Run Club. All are welcome. Discounted beers & prizes for running milestones available for all runners.  Follow @longbeach_runclub on Instagram for updates & other activities.
URL:https://brighteyebeerco.com/event-detail/long-beach-run-club/2029-01-24/
LOCATION:Bright Eye Beer Co. Taproom\, 50 West Park Ave\, Long Beach\, NY\, 11561\, United States
END:VEVENT
BEGIN:VEVENT
DTSTART;TZID=America/New_York:20290905T184500
DTEND;TZID=America/New_York:20290905T194500
DTSTAMP:20260421T175141
CREATED:20250123T152506Z
LAST-MODIFIED:20250123T152506Z
UID:10000306-1883328300-1883331900@brighteyebeerco.com
SUMMARY:Long Beach Run Club
DESCRIPTION:Meet @ 6:45pm\, Run @ 7pm \nWeekly 5k on the boards with the Long Beach Run Club. All are welcome. Discounted beers & prizes for running milestones available for all runners.  Follow @longbeach_runclub on Instagram for updates & other activities.
URL:https://brighteyebeerco.com/event-detail/long-beach-run-club/2029-09-05/
LOCATION:Bright Eye Beer Co. Taproom\, 50 West Park Ave\, Long Beach\, NY\, 11561\, United States
END:VEVENT
BEGIN:VEVENT
DTSTART;TZID=America/New_York:20261028T184500
DTEND;TZID=America/New_York:20261028T194500
DTSTAMP:20260421T175141
CREATED:20250123T152506Z
LAST-MODIFIED:20250123T152506Z
UID:10000157-1793213100-1793216700@brighteyebeerco.com
SUMMARY:Long Beach Run Club
DESCRIPTION:Meet @ 6:45pm\, Run @ 7pm \nWeekly 5k on the boards with the Long Beach Run Club. All are welcome. Discounted beers & prizes for running milestones available for all runners.  Follow @longbeach_runclub on Instagram for updates & other activities.
URL:https://brighteyebeerco.com/event-detail/long-beach-run-club/2026-10-28/
LOCATION:Bright Eye Beer Co. Taproom\, 50 West Park Ave\, Long Beach\, NY\, 11561\, United States
END:VEVENT
END:VCALENDAR